BEGIN:VCALENDAR
VERSION:2.0
PRODID:-//FIRST Washington - ECPv4.9.13//NONSGML v1.0//EN
CALSCALE:GREGORIAN
METHOD:PUBLISH
X-WR-CALNAME:FIRST Washington
X-ORIGINAL-URL:https://firstwa.org
X-WR-CALDESC:Events for FIRST Washington
BEGIN:VTIMEZONE
TZID:UTC
BEGIN:STANDARD
TZOFFSETFROM:+0000
TZOFFSETTO:+0000
TZNAME:UTC
DTSTART:20180101T000000
END:STANDARD
END:VTIMEZONE
BEGIN:VEVENT
DTSTART;TZID=UTC:20181013T090000
DTEND;TZID=UTC:20181013T150000
DTSTAMP:20200305T203535
CREATED:20181003T023653Z
LAST-MODIFIED:20181108T004126Z
UID:2673-1539421200-1539442800@firstwa.org
SUMMARY:FIRST Washington Diversity
DESCRIPTION:
URL:https://firstwa.org/event/first-washington-diversity/
LOCATION:TBD\, United States
CATEGORIES:All Programs
END:VEVENT
END:VCALENDAR