BEGIN:VCALENDAR
VERSION:2.0
PRODID:-//FIRST Washington - ECPv4.9.13//NONSGML v1.0//EN
CALSCALE:GREGORIAN
METHOD:PUBLISH
X-WR-CALNAME:FIRST Washington
X-ORIGINAL-URL:https://firstwa.org
X-WR-CALDESC:Events for FIRST Washington
BEGIN:VTIMEZONE
TZID:UTC
BEGIN:STANDARD
TZOFFSETFROM:+0000
TZOFFSETTO:+0000
TZNAME:UTC
DTSTART:20180101T000000
END:STANDARD
END:VTIMEZONE
BEGIN:VEVENT
DTSTART;TZID=UTC:20181208T080000
DTEND;TZID=UTC:20181208T170000
DTSTAMP:20200305T203105
CREATED:20181003T023708Z
LAST-MODIFIED:20181130T023011Z
UID:2721-1544256000-1544288400@firstwa.org
SUMMARY:FLL Eastern Qualifier - Spokane (Sat)
DESCRIPTION:\n\n\n\n\n\n\n\n \n\n\nSchedule\nTime\n\n\nArrive (Coach check-ins)\n  8:00 AM\n\n\nCoaches Meeting\n  8:45 AM\n\n\nJudging Sessions\n  9:15 AM\n\n\nRobot Games Opening Ceremony (Parade of Teams\, Welcome to Spectators )\n12:00 PM\n\n\nRound 1 (times are approximate)\n12:45 PM\n\n\nRound two\n  1:45 PM\n\n\nRound three\n  2:45 PM\n\n\nAwards\n  4:00 PM\n\n\n\n\n\n\n\n\n\n\nNOTE: Schedule subject to change. Final schedules provided day of competition.\n\n\nFood: TBD\n\n\nAll events need support from the attending teams in order to have enough tables and Challenge sets for the Judging rooms and Practice tables.\n\n\nTo Provide Challenge sets and Tables for Event use\, please register your equipment here: Register to Provide Event Equipment\n\n\n﻿ width=”100%” height=”450″ frameborder=”0″>\n\n\n\n\n\n  \n
URL:https://firstwa.org/event/fll-eastern-sat/
LOCATION:Salk Middle School\, 6411 N Alberta St\,\, Spokane\, WA\, 99208\, United States
CATEGORIES:FLL
GEO:47.717338;-117.449867
X-APPLE-STRUCTURED-LOCATION;VALUE=URI;X-ADDRESS=Salk Middle School 6411 N Alberta St Spokane WA 99208 United States;X-APPLE-RADIUS=500;X-TITLE=6411 N Alberta St\,:geo:-117.449867,47.717338
END:VEVENT
END:VCALENDAR