BEGIN:VCALENDAR
VERSION:2.0
PRODID:-//FIRST Washington - ECPv4.9.13//NONSGML v1.0//EN
CALSCALE:GREGORIAN
METHOD:PUBLISH
X-WR-CALNAME:FIRST Washington
X-ORIGINAL-URL:https://firstwa.org
X-WR-CALDESC:Events for FIRST Washington
BEGIN:VTIMEZONE
TZID:UTC
BEGIN:STANDARD
TZOFFSETFROM:+0000
TZOFFSETTO:+0000
TZNAME:UTC
DTSTART:20180101T000000
END:STANDARD
END:VTIMEZONE
BEGIN:VEVENT
DTSTART;TZID=UTC:20181201T080000
DTEND;TZID=UTC:20181201T170000
DTSTAMP:20200305T203544
CREATED:20181003T023659Z
LAST-MODIFIED:20181130T023444Z
UID:2696-1543651200-1543683600@firstwa.org
SUMMARY:FLL Eastside Qualifier - Chinook (Sat)
DESCRIPTION:\n\n\n\n\n\n\n\n \n\n\nSchedule\nTime\n\n\nVolunteer Check-in\n  7:00 AM\n\n\nTeam Check-in Opens\n  8:00 AM\n\n\nCoach Meeting\n  8:30 AM\n\n\nJudge Sessions Begin\n  9:00 AM\n\n\nLunch\n12:00 PM\n\n\nOpening Ceremony\n12:45 PM\n\n\nRobot Competitions Begin\n  1:00 PM\n\n\nAwards Ceremony\n  4:00 PM\n\n\nLoad Out\n  5:00 PM\n\n\n\n\n\n\n\n\n\n\nNOTE: Schedule subject to change. Final schedules provided day of competition.\n\n\nFood: Concessions will be available. (Concessions Flyer)\n\n\nAll events need support from the attending teams in order to have enough tables and Challenge sets for the Judging rooms and Practice tables.\n\n\nTo Provide Challenge sets and Tables for Event use\, please register your equipment here: Register to Provide Event Equipment\n\n\n width=”100%” height=”450″ frameborder=”0″>\n\n\n\n\n\n  \n
URL:https://firstwa.org/event/fll-eastside-sat-chinook/
LOCATION:Chinook Middle School – Bellevue\, 2001 98th Ave NE\, Bellevue\, WA\, 98004\, United States
CATEGORIES:FLL
GEO:47.6282953;-122.2109378
X-APPLE-STRUCTURED-LOCATION;VALUE=URI;X-ADDRESS=Chinook Middle School – Bellevue 2001 98th Ave NE Bellevue WA 98004 United States;X-APPLE-RADIUS=500;X-TITLE=2001 98th Ave NE:geo:-122.2109378,47.6282953
END:VEVENT
END:VCALENDAR