BEGIN:VCALENDAR
VERSION:2.0
PRODID:-//FIRST Washington - ECPv4.9.13//NONSGML v1.0//EN
CALSCALE:GREGORIAN
METHOD:PUBLISH
X-WR-CALNAME:FIRST Washington
X-ORIGINAL-URL:https://firstwa.org
X-WR-CALDESC:Events for FIRST Washington
BEGIN:VTIMEZONE
TZID:UTC
BEGIN:STANDARD
TZOFFSETFROM:+0000
TZOFFSETTO:+0000
TZNAME:UTC
DTSTART:20180101T000000
END:STANDARD
END:VTIMEZONE
BEGIN:VEVENT
DTSTART;TZID=UTC:20181201T140000
DTEND;TZID=UTC:20181201T160000
DTSTAMP:20200305T202358
CREATED:20181003T023704Z
LAST-MODIFIED:20181108T001216Z
UID:2707-1543672800-1543680000@firstwa.org
SUMMARY:FLL Jr Expo: Olympia
DESCRIPTION:
URL:https://firstwa.org/event/fll-jr-expo-olympia/
LOCATION:TBD\, United States
CATEGORIES:FLL Jr
END:VEVENT
END:VCALENDAR