BEGIN:VCALENDAR
VERSION:2.0
PRODID:-//FIRST Washington - ECPv4.9.13//NONSGML v1.0//EN
CALSCALE:GREGORIAN
METHOD:PUBLISH
X-WR-CALNAME:FIRST Washington
X-ORIGINAL-URL:https://firstwa.org
X-WR-CALDESC:Events for FIRST Washington
BEGIN:VTIMEZONE
TZID:UTC
BEGIN:STANDARD
TZOFFSETFROM:+0000
TZOFFSETTO:+0000
TZNAME:UTC
DTSTART:20180101T000000
END:STANDARD
END:VTIMEZONE
BEGIN:VEVENT
DTSTART;TZID=UTC:20181201T140000
DTEND;TZID=UTC:20181201T160000
DTSTAMP:20200305T201026
CREATED:20181003T023703Z
LAST-MODIFIED:20181108T001231Z
UID:2704-1543672800-1543680000@firstwa.org
SUMMARY:FLL Jr Expo: Richland
DESCRIPTION:
URL:https://firstwa.org/event/fll-jr-expo-richland/
LOCATION:Chief Joseph Middle School\, 504 Wilson St\, Richland\, WA\, 99354\, United States
CATEGORIES:FLL Jr
GEO:46.2962863;-119.2824672
X-APPLE-STRUCTURED-LOCATION;VALUE=URI;X-ADDRESS=Chief Joseph Middle School 504 Wilson St Richland WA 99354 United States;X-APPLE-RADIUS=500;X-TITLE=504 Wilson St:geo:-119.2824672,46.2962863
END:VEVENT
END:VCALENDAR