BEGIN:VCALENDAR
VERSION:2.0
PRODID:-//FIRST Washington - ECPv4.9.13//NONSGML v1.0//EN
CALSCALE:GREGORIAN
METHOD:PUBLISH
X-WR-CALNAME:FIRST Washington
X-ORIGINAL-URL:https://firstwa.org
X-WR-CALDESC:Events for FIRST Washington
BEGIN:VTIMEZONE
TZID:UTC
BEGIN:STANDARD
TZOFFSETFROM:+0000
TZOFFSETTO:+0000
TZNAME:UTC
DTSTART:20180101T000000
END:STANDARD
END:VTIMEZONE
BEGIN:VEVENT
DTSTART;TZID=UTC:20181201T140000
DTEND;TZID=UTC:20181201T160000
DTSTAMP:20200305T200741
CREATED:20181003T023702Z
LAST-MODIFIED:20181108T001248Z
UID:2701-1543672800-1543680000@firstwa.org
SUMMARY:FLL Jr Expo: Snohomish
DESCRIPTION:
URL:https://firstwa.org/event/fll-jr-expo-snohomish/
LOCATION:Glacier Peak High School\, 7401 144th Pl SE\, Snohomish\, WA\, 98296\, United States
CATEGORIES:FLL Jr
GEO:47.8679783;-122.1332964
X-APPLE-STRUCTURED-LOCATION;VALUE=URI;X-ADDRESS=Glacier Peak High School 7401 144th Pl SE Snohomish WA 98296 United States;X-APPLE-RADIUS=500;X-TITLE=7401 144th Pl SE:geo:-122.1332964,47.8679783
END:VEVENT
END:VCALENDAR