BEGIN:VCALENDAR
VERSION:2.0
PRODID:-//FIRST Washington - ECPv4.9.13//NONSGML v1.0//EN
CALSCALE:GREGORIAN
METHOD:PUBLISH
X-WR-CALNAME:FIRST Washington
X-ORIGINAL-URL:https://firstwa.org
X-WR-CALDESC:Events for FIRST Washington
BEGIN:VTIMEZONE
TZID:America/Los_Angeles
BEGIN:DAYLIGHT
TZOFFSETFROM:-0800
TZOFFSETTO:-0700
TZNAME:PDT
DTSTART:20190310T100000
END:DAYLIGHT
BEGIN:STANDARD
TZOFFSETFROM:-0700
TZOFFSETTO:-0800
TZNAME:PST
DTSTART:20191103T090000
END:STANDARD
END:VTIMEZONE
BEGIN:VEVENT
DTSTART;TZID=America/Los_Angeles:20191207T064500
DTEND;TZID=America/Los_Angeles:20191207T160000
DTSTAMP:20200305T202020
CREATED:20191030T234440Z
LAST-MODIFIED:20191104T194214Z
UID:4915-1575701100-1575734400@firstwa.org
SUMMARY:FLL Peninsula Bainbridge Qualifier
DESCRIPTION:\n\n\n\n\n\n\n \n\n\nSchedule\nTime\n\n\nVolunteer Check-in Opens\n  6:45 AM\n\n\nTeam Check-in Opens\n  8:30 AM\n\n\nCoach Meeting\n  9:00 AM\n\n\nJudge Sessions Begin\n  9:30 AM\n\n\nLunch\n 12:45 PM\n\n\nOpening Ceremony\n  1:15 PM\n\n\nRobot Competitions Begin\n  1:30 PM\n\n\nAwards Ceremony\n  4:00 PM\n\n\n\n\n\n\nNOTE: Schedule subject to change. Final schedules provided day of competition.\n\n\nFood: There is local food nearby:  Subway\, McDonalds\, Safeway and West side Pizza.\n\n\nAll events need support from the attending teams in order to have enough tables and Challenge sets for the Judging rooms and Practice tables.\n\n\nTo Provide Challenge sets and Tables for Event use\, please register your equipment here: Register to Provide Event Equipment\n\n\n\n\n\n\n  \n
URL:https://firstwa.org/event/fll-peninsula-qualifier/
LOCATION:Bainbridge High School\, 9330 High School Rd NE\, Bainbridge Island\, WA\, 98110\, United States
CATEGORIES:FLL
GEO:47.6366684;-122.5250363
X-APPLE-STRUCTURED-LOCATION;VALUE=URI;X-ADDRESS=Bainbridge High School 9330 High School Rd NE Bainbridge Island WA 98110 United States;X-APPLE-RADIUS=500;X-TITLE=9330 High School Rd NE:geo:-122.5250363,47.6366684
END:VEVENT
END:VCALENDAR