BEGIN:VCALENDAR
VERSION:2.0
PRODID:-//FIRST Washington - ECPv4.9.13//NONSGML v1.0//EN
CALSCALE:GREGORIAN
METHOD:PUBLISH
X-WR-CALNAME:FIRST Washington
X-ORIGINAL-URL:https://firstwa.org
X-WR-CALDESC:Events for FIRST Washington
BEGIN:VTIMEZONE
TZID:UTC
BEGIN:STANDARD
TZOFFSETFROM:+0000
TZOFFSETTO:+0000
TZNAME:UTC
DTSTART:20180101T000000
END:STANDARD
END:VTIMEZONE
BEGIN:VEVENT
DTSTART;TZID=UTC:20181208T080000
DTEND;TZID=UTC:20181208T170000
DTSTAMP:20200305T202724
CREATED:20181003T023709Z
LAST-MODIFIED:20181130T022856Z
UID:2726-1544256000-1544288400@firstwa.org
SUMMARY:FLL Peninsula Qualifier - Bainbridge (Sat)
DESCRIPTION:\n\n\n\n\n\n\n\n \n\n\nSchedule\nTime\n\n\nVolunteer Check-in Opens\n  6:45 AM\n\n\nTeam Check-in Opens\n  8:30 AM\n\n\nCoach Meeting\n  9:00 AM\n\n\nJudge Sessions Begin\n  9:30 AM\n\n\nLunch\n12:45 PM\n\n\nOpening Ceremony\n  1:15 PM\n\n\nRobot Competitions Begin\n  1:30 PM\n\n\nAwards Ceremony\n  4:00 PM\n\n\n\n\n\n\n\n\n\n\nNOTE: Schedule subject to change. Final schedules provided day of competition.\n\n\nFood: Snacks will be available form the concession stand. There is also local food nearby: Subway\, McDonalds\, Safeway and West side Pizza.\n\n\nAll events need support from the attending teams in order to have enough tables and Challenge sets for the Judging rooms and Practice tables.\n\n\nTo Provide Challenge sets and Tables for Event use\, please register your equipment here: Register to Provide Event Equipment\n\n\n width=”600″ height=”450″ frameborder=”0″ allowfullscreen=”allowfullscreen”> width=”100%” height=”450″ frameborder=”0″>\n\n\n\n\n\n  \n
URL:https://firstwa.org/event/fll-peninsula-sat/
LOCATION:Bainbridge High School\, 9330 High School Rd NE\, Bainbridge Island\, WA\, 98110\, United States
CATEGORIES:FLL
GEO:47.6366684;-122.5250363
X-APPLE-STRUCTURED-LOCATION;VALUE=URI;X-ADDRESS=Bainbridge High School 9330 High School Rd NE Bainbridge Island WA 98110 United States;X-APPLE-RADIUS=500;X-TITLE=9330 High School Rd NE:geo:-122.5250363,47.6366684
END:VEVENT
END:VCALENDAR