BEGIN:VCALENDAR
VERSION:2.0
PRODID:-//FIRST Washington - ECPv4.9.13//NONSGML v1.0//EN
CALSCALE:GREGORIAN
METHOD:PUBLISH
X-WR-CALNAME:FIRST Washington
X-ORIGINAL-URL:https://firstwa.org
X-WR-CALDESC:Events for FIRST Washington
BEGIN:VTIMEZONE
TZID:UTC
BEGIN:STANDARD
TZOFFSETFROM:+0000
TZOFFSETTO:+0000
TZNAME:UTC
DTSTART:20180101T000000
END:STANDARD
END:VTIMEZONE
BEGIN:VEVENT
DTSTART;VALUE=DATE:20180915
DTEND;VALUE=DATE:20180916
DTSTAMP:20200305T202703
CREATED:20181003T023647Z
LAST-MODIFIED:20181108T004737Z
UID:2660-1536969600-1537055999@firstwa.org
SUMMARY:FLL-Puyallup Kickoff
DESCRIPTION:Hold the date! \n
URL:https://firstwa.org/event/fll-puyallup-kickoff/
LOCATION:Emerald Ridge High School\, 12405 184th St E\, Puyallup\, WA\, 98374\, United States
CATEGORIES:FLL
GEO:47.0915113;-122.2656288
X-APPLE-STRUCTURED-LOCATION;VALUE=URI;X-ADDRESS=Emerald Ridge High School 12405 184th St E Puyallup WA 98374 United States;X-APPLE-RADIUS=500;X-TITLE=12405 184th St E:geo:-122.2656288,47.0915113
END:VEVENT
END:VCALENDAR