BEGIN:VCALENDAR
VERSION:2.0
PRODID:-//FIRST Washington - ECPv4.9.13//NONSGML v1.0//EN
CALSCALE:GREGORIAN
METHOD:PUBLISH
X-WR-CALNAME:FIRST Washington
X-ORIGINAL-URL:https://firstwa.org
X-WR-CALDESC:Events for FIRST Washington
BEGIN:VTIMEZONE
TZID:UTC
BEGIN:STANDARD
TZOFFSETFROM:+0000
TZOFFSETTO:+0000
TZNAME:UTC
DTSTART:20180101T000000
END:STANDARD
END:VTIMEZONE
BEGIN:VEVENT
DTSTART;TZID=UTC:20181202T080000
DTEND;TZID=UTC:20181202T170000
DTSTAMP:20200305T201345
CREATED:20181003T023706Z
LAST-MODIFIED:20181130T023119Z
UID:2713-1543737600-1543770000@firstwa.org
SUMMARY:FLL South King Qualifier - Auburn (Sun)
DESCRIPTION:\n\n\n\n\n\n\n\n \n\n\nSchedule\nTime\n\n\nVolunteer Check-in\n  7:00 AM\n\n\nTeam Check-in Opens\n  8:00 AM\n\n\nCoach Meeting\n  8:30 AM\n\n\nJudge Sessions Begin\n  9:00 AM\n\n\nLunch\n12:00 PM\n\n\nOpening Ceremony\n12:45 PM\n\n\nRobot Competitions Begin\n  1:00 PM\n\n\nAwards Ceremony\n  4:00 PM\n\n\nLoad Out\n  4:30 PM\n\n\n\n\n\n\n\n\n\n\nNOTE: Schedule subject to change. Final schedules provided day of competition.\n\n\nFood: Concessions will be available Saturday and Sunday. Items for sale will include: Chips\, Cookies\, Candy\, Coffee\, Hot Chocolate\, Hot Tea\, Hot Cider\, Soda\, Water\, Fruit\, and other items. Most items will be on sale for $1.00 each (CASH ONLY)\, except for Hot Dogs or Pizza by the slice\, $3.00 (a $5.00 meal deal will be available); Rice Bowl or a Muffin $2.00 each. \nWe are proud to be sponsored by our local Rich’s pizza and will have their pizza available for team lunches. We will have order forms at registration. Please have the order forms and payment turned in to concessions no later than 10:00am to ensure your order will arrive at lunch time (no credit/debit cards).\n\n\nAll events need support from the attending teams in order to have enough tables and Challenge sets for the Judging rooms and Practice tables.\n\n\nTo Provide Challenge sets and Tables for Event use\, please register your equipment here: Register to Provide Event Equipment\n\n\n width=”100%” height=”450″ frameborder=”0″>\n\n\n\n\n\n  \n
URL:https://firstwa.org/event/fll-south-king-sun/
LOCATION:Auburn Mountainview High School\, 28900 124th Ave SE\, Auburn\, WA\, 98092\, United States
CATEGORIES:FLL
GEO:47.3419617;-122.171867
X-APPLE-STRUCTURED-LOCATION;VALUE=URI;X-ADDRESS=Auburn Mountainview High School 28900 124th Ave SE Auburn WA 98092 United States;X-APPLE-RADIUS=500;X-TITLE=28900 124th Ave SE:geo:-122.171867,47.3419617
END:VEVENT
END:VCALENDAR