BEGIN:VCALENDAR
VERSION:2.0
PRODID:-//FIRST Washington - ECPv4.9.13//NONSGML v1.0//EN
CALSCALE:GREGORIAN
METHOD:PUBLISH
X-WR-CALNAME:FIRST Washington
X-ORIGINAL-URL:https://firstwa.org
X-WR-CALDESC:Events for FIRST Washington
BEGIN:VTIMEZONE
TZID:America/Los_Angeles
BEGIN:DAYLIGHT
TZOFFSETFROM:-0800
TZOFFSETTO:-0700
TZNAME:PDT
DTSTART:20190310T100000
END:DAYLIGHT
BEGIN:STANDARD
TZOFFSETFROM:-0700
TZOFFSETTO:-0800
TZNAME:PST
DTSTART:20191103T090000
END:STANDARD
END:VTIMEZONE
BEGIN:VEVENT
DTSTART;TZID=America/Los_Angeles:20191207T070000
DTEND;TZID=America/Los_Angeles:20191207T163000
DTSTAMP:20200305T202008
CREATED:20191030T234205Z
LAST-MODIFIED:20191030T234205Z
UID:4964-1575702000-1575736200@firstwa.org
SUMMARY:FLL Southwest Camas Qualifier
DESCRIPTION:\n\n\n\n\n\n\n\n \n\n\nSchedule\nTime\n\n\nVolunteer Check-in\n  7:00 AM\n\n\nTeam Check-in Opens\n  8:00 AM\n\n\nCoach Meeting\n  8:30 AM\n\n\nJudge Sessions Begin\n  9:00 AM\n\n\nLunch\n 11:30 PM\n\n\nOpening Ceremony\n  12:00 PM\n\n\nRobot Competitions Begin\n  12:15 PM\n\n\nAwards Ceremony\n  4:00 PM\n\n\nLoad Out\n  4:30 PM\n\n\n\n\n\n\nNOTE: Schedule subject to change. Final schedules provided day of competition.\n\n\nAll events need support from the attending teams in order to have enough tables and Challenge sets for the Judging rooms and Practice tables.\n\n\nTo Provide Challenge sets and Tables for Event use\, please register your equipment here: Register to Provide Event Equipment\n\n\n\n\n\n\n\n
URL:https://firstwa.org/event/fll-southwest-camas-qualifier/
LOCATION:Discovery High School\, 5125 NW Nan Henriksen Way\, Camas\, WA\, 98607\, United States
CATEGORIES:FLL
GEO:45.5940195;-122.4619232
X-APPLE-STRUCTURED-LOCATION;VALUE=URI;X-ADDRESS=Discovery High School 5125 NW Nan Henriksen Way Camas WA 98607 United States;X-APPLE-RADIUS=500;X-TITLE=5125 NW Nan Henriksen Way:geo:-122.4619232,45.5940195
END:VEVENT
END:VCALENDAR