BEGIN:VCALENDAR
VERSION:2.0
PRODID:-//FIRST Washington - ECPv4.9.13//NONSGML v1.0//EN
CALSCALE:GREGORIAN
METHOD:PUBLISH
X-WR-CALNAME:FIRST Washington
X-ORIGINAL-URL:https://firstwa.org
X-WR-CALDESC:Events for FIRST Washington
BEGIN:VTIMEZONE
TZID:UTC
BEGIN:STANDARD
TZOFFSETFROM:+0000
TZOFFSETTO:+0000
TZNAME:UTC
DTSTART:20180101T000000
END:STANDARD
END:VTIMEZONE
BEGIN:VEVENT
DTSTART;TZID=UTC:20181201T080000
DTEND;TZID=UTC:20181201T170000
DTSTAMP:20200305T202729
CREATED:20181003T023706Z
LAST-MODIFIED:20181130T023239Z
UID:2711-1543651200-1543683600@firstwa.org
SUMMARY:FLL Southwest Qualifier - Camas (Sat)
DESCRIPTION:\n\n\n\n\n\n\n\n \n\n\nSchedule\nTime\n\n\nVolunteer Check-in\n  7:00 AM\n\n\nTeam Check-in Opens\n  8:00 AM\n\n\nCoach Meeting\n  8:30 AM\n\n\nJudge Sessions Begin\n  9:00 AM\n\n\nLunch\n11:30 PM\n\n\nOpening Ceremony\n12:00 PM\n\n\nRobot Competitions Begin\n12:15 PM\n\n\nAwards Ceremony\n  4:00 PM\n\n\nLoad Out\n  4:30 PM\n\n\n\n\n\n\n\n\n\n\nNOTE: Schedule subject to change. Final schedules provided day of competition.\n\n\nFood: Concession stand with: Starbucks drip coffee\, soda\, water\, juice\, cup o’ noodles\, cups of chili\, candy\, chips\, fruit and granola bars\n\n\nAll events need support from the attending teams in order to have enough tables and Challenge sets for the Judging rooms and Practice tables.\n\n\nTo Provide Challenge sets and Tables for Event use\, please register your equipment here: Register to Provide Event Equipment\n\n\n width=”600″ height=”450″ frameborder=”0″ style=”border:0″ allowfullscreen> width=”100%” height=”450″ frameborder=”0″>\n\n\n\n\n\n  \n
URL:https://firstwa.org/event/fll-southwest-sat/
LOCATION:Skyridge Middle School\, 5200 NW Parker St\, Camas\, WA\, 98607\, United States
CATEGORIES:FLL
GEO:45.6213405;-122.4473112
X-APPLE-STRUCTURED-LOCATION;VALUE=URI;X-ADDRESS=Skyridge Middle School 5200 NW Parker St Camas WA 98607 United States;X-APPLE-RADIUS=500;X-TITLE=5200 NW Parker St:geo:-122.4473112,45.6213405
END:VEVENT
END:VCALENDAR