BEGIN:VCALENDAR
VERSION:2.0
PRODID:-//FIRST Washington - ECPv4.9.13//NONSGML v1.0//EN
CALSCALE:GREGORIAN
METHOD:PUBLISH
X-WR-CALNAME:FIRST Washington
X-ORIGINAL-URL:https://firstwa.org
X-WR-CALDESC:Events for FIRST Washington
BEGIN:VTIMEZONE
TZID:UTC
BEGIN:STANDARD
TZOFFSETFROM:+0000
TZOFFSETTO:+0000
TZNAME:UTC
DTSTART:20180101T000000
END:STANDARD
END:VTIMEZONE
BEGIN:VEVENT
DTSTART;TZID=UTC:20180915T090000
DTEND;TZID=UTC:20180915T120000
DTSTAMP:20200305T202252
CREATED:20181003T023644Z
LAST-MODIFIED:20181108T004717Z
UID:2659-1537002000-1537012800@firstwa.org
SUMMARY:FLL Wenatchee Kickoff
DESCRIPTION:
URL:https://firstwa.org/event/fll-wenatchee-kickoff/
LOCATION:Eastmont Junior High School\, 905 8th St NE\, East Wenatchee\, WA\, 98802\, United States
CATEGORIES:FLL
GEO:47.4181195;-120.2733334
X-APPLE-STRUCTURED-LOCATION;VALUE=URI;X-ADDRESS=Eastmont Junior High School 905 8th St NE East Wenatchee WA 98802 United States;X-APPLE-RADIUS=500;X-TITLE=905 8th St NE:geo:-120.2733334,47.4181195
END:VEVENT
END:VCALENDAR