BEGIN:VCALENDAR
VERSION:2.0
PRODID:-//FIRST Washington - ECPv4.9.13//NONSGML v1.0//EN
CALSCALE:GREGORIAN
METHOD:PUBLISH
X-WR-CALNAME:FIRST Washington
X-ORIGINAL-URL:https://firstwa.org
X-WR-CALDESC:Events for FIRST Washington
BEGIN:VTIMEZONE
TZID:America/Los_Angeles
BEGIN:DAYLIGHT
TZOFFSETFROM:-0800
TZOFFSETTO:-0700
TZNAME:PDT
DTSTART:20200308T100000
END:DAYLIGHT
BEGIN:STANDARD
TZOFFSETFROM:-0700
TZOFFSETTO:-0800
TZNAME:PST
DTSTART:20201101T090000
END:STANDARD
END:VTIMEZONE
BEGIN:VEVENT
DTSTART;VALUE=DATE:20200306
DTEND;VALUE=DATE:20200309
DTSTAMP:20200305T193607
CREATED:20200116T200207Z
LAST-MODIFIED:20200219T214409Z
UID:5442-1583452800-1583711999@firstwa.org
SUMMARY:FRC Week 2 Auburn Mountainview
DESCRIPTION:\n\n\n\n\n\n\n\nAuburn Mountainview High School\, Auburn WA\n\n\n\n\n\n\n\n\n\nVOLUNTEER\n\n\n\n\n\n\n\nWorkshop Requests:  Deadline has passed \nSite Specific PowerPoint:  AMV Site Specifc info \nPre-order Pizza:  Can be ordered on site (Info in site specific powerpoint \nTeam List/Event Results: https://frc-events.firstinspires.org/2020/WAAMV \nSchedule: https://www.firstinspires.org/sites/default/files/uploads/frc/2020-events/2020_WAAMV_Agenda.pdf \nHotel Info \nDistrict Rankings:  https://frc-events.firstinspires.org/2020/district/PNW#rankings \n**Schedule subject to change. Final schedules provided day of competition. \n
URL:https://firstwa.org/event/frc-week-2-auburn-mountainview/
LOCATION:Auburn Mountainview High School\, 28900 124th Ave SE\, Auburn\, WA\, 98092\, United States
CATEGORIES:FRC
GEO:47.3419617;-122.171867
X-APPLE-STRUCTURED-LOCATION;VALUE=URI;X-ADDRESS=Auburn Mountainview High School 28900 124th Ave SE Auburn WA 98092 United States;X-APPLE-RADIUS=500;X-TITLE=28900 124th Ave SE:geo:-122.171867,47.3419617
END:VEVENT
END:VCALENDAR