BEGIN:VCALENDAR
VERSION:2.0
PRODID:-//FIRST Washington - ECPv4.9.13//NONSGML v1.0//EN
CALSCALE:GREGORIAN
METHOD:PUBLISH
X-WR-CALNAME:FIRST Washington
X-ORIGINAL-URL:https://firstwa.org
X-WR-CALDESC:Events for FIRST Washington
BEGIN:VTIMEZONE
TZID:America/Los_Angeles
BEGIN:DAYLIGHT
TZOFFSETFROM:-0800
TZOFFSETTO:-0700
TZNAME:PDT
DTSTART:20200308T100000
END:DAYLIGHT
BEGIN:STANDARD
TZOFFSETFROM:-0700
TZOFFSETTO:-0800
TZNAME:PST
DTSTART:20201101T090000
END:STANDARD
END:VTIMEZONE
BEGIN:VEVENT
DTSTART;VALUE=DATE:20200312
DTEND;VALUE=DATE:20200315
DTSTAMP:20200305T193454
CREATED:20200116T203132Z
LAST-MODIFIED:20200212T223626Z
UID:5444-1583971200-1584230399@firstwa.org
SUMMARY:FRC Week 3 Wilsonville
DESCRIPTION:\n\n\n\n\n\n\n\nWilsonville\, Wilsonville OR\n\n\n\n\n\n\n\n\n\nVOLUNTEER\n\n\n\n\n\n\n\nWorkshop Requests:  Deadline has passed \nSite Specific PowerPoint:    \nPre-order Pizza:   \nTeam List/Event Results: https://frc-events.firstinspires.org/2020/ORWIL \nSchedule: https://www.firstinspires.org/sites/default/files/uploads/frc/2020-events/2020_ORWIL_Agenda.pdf \nHotel Info \nDistrict Rankings:  https://frc-events.firstinspires.org/2020/district/PNW#rankings \n**Schedule subject to change. Final schedules provided day of competition. \n
URL:https://firstwa.org/event/frc-week-3-wilsonville/
LOCATION:Wilsonville High School\, 6800 SW Wilsonville Rd\, Wilsonville\, OR\, 97070\, United States
CATEGORIES:FRC
GEO:45.3069373;-122.7475376
X-APPLE-STRUCTURED-LOCATION;VALUE=URI;X-ADDRESS=Wilsonville High School 6800 SW Wilsonville Rd Wilsonville OR 97070 United States;X-APPLE-RADIUS=500;X-TITLE=6800 SW Wilsonville Rd:geo:-122.7475376,45.3069373
END:VEVENT
END:VCALENDAR