BEGIN:VCALENDAR
VERSION:2.0
PRODID:-//FIRST Washington - ECPv4.9.13//NONSGML v1.0//EN
CALSCALE:GREGORIAN
METHOD:PUBLISH
X-WR-CALNAME:FIRST Washington
X-ORIGINAL-URL:https://firstwa.org
X-WR-CALDESC:Events for FIRST Washington
BEGIN:VTIMEZONE
TZID:America/Los_Angeles
BEGIN:DAYLIGHT
TZOFFSETFROM:-0800
TZOFFSETTO:-0700
TZNAME:PDT
DTSTART:20200308T100000
END:DAYLIGHT
BEGIN:STANDARD
TZOFFSETFROM:-0700
TZOFFSETTO:-0800
TZNAME:PST
DTSTART:20201101T090000
END:STANDARD
END:VTIMEZONE
BEGIN:VEVENT
DTSTART;TZID=America/Los_Angeles:20200320T080000
DTEND;TZID=America/Los_Angeles:20200322T170000
DTSTAMP:20200305T193457
CREATED:20200116T204518Z
LAST-MODIFIED:20200212T224332Z
UID:5448-1584691200-1584896400@firstwa.org
SUMMARY:FRC Week 4 Bellingham
DESCRIPTION:\n\n\n\n\n\n\n\nBellingham High School\, Bellingham WA\n\n\n\n\n\n\n\n\n\nVOLUNTEER\n\n\n\n\n\n\n\nWorkshop Requests:  Deadline has passed \nSite Specific PowerPoint:    \nPre-order Pizza:   \nTeam List/Event Results: https://frc-events.firstinspires.org/2020/WABEL \nSchedule: https://www.firstinspires.org/sites/default/files/uploads/frc/2020-events/2020_WABEL_Agenda.pdf \nHotel Info \nDistrict Rankings:  https://frc-events.firstinspires.org/2020/district/PNW#rankings \n**Schedule subject to change. Final schedules provided day of competition. \n
URL:https://firstwa.org/event/frc-week-4-bellingham/
LOCATION:Bellingham High School\, 2020 Cornwall Ave\, Bellingham\, WA\, 98225\, United States
CATEGORIES:FRC
GEO:48.7565231;-122.4734244
X-APPLE-STRUCTURED-LOCATION;VALUE=URI;X-ADDRESS=Bellingham High School 2020 Cornwall Ave Bellingham WA 98225 United States;X-APPLE-RADIUS=500;X-TITLE=2020 Cornwall Ave:geo:-122.4734244,48.7565231
END:VEVENT
END:VCALENDAR