BEGIN:VCALENDAR
VERSION:2.0
PRODID:-//FIRST Washington - ECPv4.9.13//NONSGML v1.0//EN
CALSCALE:GREGORIAN
METHOD:PUBLISH
X-WR-CALNAME:FIRST Washington
X-ORIGINAL-URL:https://firstwa.org
X-WR-CALDESC:Events for FIRST Washington
BEGIN:VTIMEZONE
TZID:America/Los_Angeles
BEGIN:DAYLIGHT
TZOFFSETFROM:-0800
TZOFFSETTO:-0700
TZNAME:PDT
DTSTART:20200308T100000
END:DAYLIGHT
BEGIN:STANDARD
TZOFFSETFROM:-0700
TZOFFSETTO:-0800
TZNAME:PST
DTSTART:20201101T090000
END:STANDARD
END:VTIMEZONE
BEGIN:VEVENT
DTSTART;VALUE=DATE:20200319
DTEND;VALUE=DATE:20200322
DTSTAMP:20200305T193719
CREATED:20200116T203632Z
LAST-MODIFIED:20200304T173354Z
UID:5446-1584576000-1584835199@firstwa.org
SUMMARY:FRC Week 4 SunDome
DESCRIPTION:\n\n\n\n\n\n\n\nSunDome State Fair Park\, Yakima WA\n\n\n\n\n\n\n\n\n\nVOLUNTEER\n\n\n\n\n\n\n\nWorkshop Requests:  Deadline has passed \nSite Specific PowerPoint:  SUN Site Specific Information \nPre-order Pizza:  No pre order lunches are available\, there will be concessions at the event. \nTeam List/Event Results: https://frc-events.firstinspires.org/2020/WAYAK \nSchedule: https://www.firstinspires.org/sites/default/files/uploads/frc/2020-events/2020_WAYAK_Agenda.pdf \nHotel Info \nDistrict Rankings:  https://frc-events.firstinspires.org/2020/district/PNW#rankings \n**Schedule subject to change. Final schedules provided day of competition. \n
URL:https://firstwa.org/event/frc-week-4-sundome/
LOCATION:SunDome\, 1301 S Fair Ave\, Yakima\, WA\, 98901\, United States
CATEGORIES:FRC
GEO:46.5891172;-120.4867758
X-APPLE-STRUCTURED-LOCATION;VALUE=URI;X-ADDRESS=SunDome 1301 S Fair Ave Yakima WA 98901 United States;X-APPLE-RADIUS=500;X-TITLE=1301 S Fair Ave:geo:-120.4867758,46.5891172
END:VEVENT
END:VCALENDAR