BEGIN:VCALENDAR
VERSION:2.0
PRODID:-//FIRST Washington - ECPv4.9.13//NONSGML v1.0//EN
CALSCALE:GREGORIAN
METHOD:PUBLISH
X-WR-CALNAME:FIRST Washington
X-ORIGINAL-URL:https://firstwa.org
X-WR-CALDESC:Events for FIRST Washington
BEGIN:VTIMEZONE
TZID:America/Los_Angeles
BEGIN:DAYLIGHT
TZOFFSETFROM:-0800
TZOFFSETTO:-0700
TZNAME:PDT
DTSTART:20200308T100000
END:DAYLIGHT
BEGIN:STANDARD
TZOFFSETFROM:-0700
TZOFFSETTO:-0800
TZNAME:PST
DTSTART:20201101T090000
END:STANDARD
END:VTIMEZONE
BEGIN:VEVENT
DTSTART;VALUE=DATE:20200401
DTEND;VALUE=DATE:20200405
DTSTAMP:20200305T193637
CREATED:20200116T205721Z
LAST-MODIFIED:20200212T215559Z
UID:5456-1585699200-1586044799@firstwa.org
SUMMARY:FRC Week 6 District Championships
DESCRIPTION:\n\n\n\n\n\n\n\nEastern Washington University\, Cheney WA\n\n\n\n\n\n\n\n\n\nVOLUNTEER\n\n\n\n\n\n\n\nPre order lunch form:   \nLoad in information:  \nDistrict Championship Briefing Recording:   \nBriefing Slides:   \nWorkshop Requests:  Request period has ended \nSchedule:  https://www.firstinspires.org/sites/default/files/uploads/frc/2020-events/2020_PNCMP_Agenda.pdf \n**Schedule subject to change. Final schedules provided day of competition. \nHotel Info \n\nEvent Results:  https://frc-events.firstinspires.org/2020/PNCMP \nDistrict Rankings:  https://frc-events.firstinspires.org/2020/district/PNW#rankings \n\nTeams Attending** Remember\, most of this list will not be populated until after week 5 events.  \n
URL:https://firstwa.org/event/frc-week-6-district-championships/
LOCATION:Eastern Washington University\, 525 5th St\, Cheney\, WA\, 99004\, United States
CATEGORIES:FRC
GEO:47.4896771;-117.5781985
X-APPLE-STRUCTURED-LOCATION;VALUE=URI;X-ADDRESS=Eastern Washington University 525 5th St Cheney WA 99004 United States;X-APPLE-RADIUS=500;X-TITLE=525 5th St:geo:-117.5781985,47.4896771
END:VEVENT
END:VCALENDAR