BEGIN:VCALENDAR
VERSION:2.0
PRODID:-//FIRST Washington - ECPv4.9.13//NONSGML v1.0//EN
CALSCALE:GREGORIAN
METHOD:PUBLISH
X-WR-CALNAME:FIRST Washington
X-ORIGINAL-URL:https://firstwa.org
X-WR-CALDESC:Events for FIRST Washington
BEGIN:VTIMEZONE
TZID:UTC
BEGIN:STANDARD
TZOFFSETFROM:+0000
TZOFFSETTO:+0000
TZNAME:UTC
DTSTART:20180101T000000
END:STANDARD
END:VTIMEZONE
BEGIN:VEVENT
DTSTART;TZID=UTC:20181015T090000
DTEND;TZID=UTC:20181016T153000
DTSTAMP:20200305T202300
CREATED:20181003T023654Z
LAST-MODIFIED:20181108T004039Z
UID:2675-1539594000-1539703800@firstwa.org
SUMMARY:STEM Robotics 101
DESCRIPTION:
URL:https://firstwa.org/event/stem-robotics-101-5/
LOCATION:ESD 112\, 2500 NE 65th Ave.\, Vancouver\, WA\, 98661\, United States
CATEGORIES:FLL
GEO:45.638756;-122.6058945
X-APPLE-STRUCTURED-LOCATION;VALUE=URI;X-ADDRESS=ESD 112 2500 NE 65th Ave. Vancouver WA 98661 United States;X-APPLE-RADIUS=500;X-TITLE=2500 NE 65th Ave.:geo:-122.6058945,45.638756
END:VEVENT
END:VCALENDAR