BEGIN:VCALENDAR
VERSION:2.0
PRODID:-//FIRST Washington - ECPv4.9.13//NONSGML v1.0//EN
CALSCALE:GREGORIAN
METHOD:PUBLISH
X-WR-CALNAME:FIRST Washington
X-ORIGINAL-URL:https://firstwa.org
X-WR-CALDESC:Events for FIRST Washington
BEGIN:VTIMEZONE
TZID:UTC
BEGIN:STANDARD
TZOFFSETFROM:+0000
TZOFFSETTO:+0000
TZNAME:UTC
DTSTART:20180101T000000
END:STANDARD
END:VTIMEZONE
BEGIN:VEVENT
DTSTART;TZID=UTC:20181011T080000
DTEND;TZID=UTC:20181011T160000
DTSTAMP:20200305T202843
CREATED:20181003T023653Z
LAST-MODIFIED:20181108T004255Z
UID:2670-1539244800-1539273600@firstwa.org
SUMMARY:WASWUG Fall "Guilding the Future:  Let's Create Something Together"
DESCRIPTION:
URL:https://firstwa.org/event/waswug-fall-guilding-the-future-lets-create-something-together/
LOCATION:The Davenport Grand Hotel\, 333 Spokane Falls Blvd\, Spokane\, WA\, 92201\, United States
CATEGORIES:All Programs
GEO:47.6597224;-117.4169123
X-APPLE-STRUCTURED-LOCATION;VALUE=URI;X-ADDRESS=The Davenport Grand Hotel 333 Spokane Falls Blvd Spokane WA 92201 United States;X-APPLE-RADIUS=500;X-TITLE=333 Spokane Falls Blvd:geo:-117.4169123,47.6597224
END:VEVENT
END:VCALENDAR