BEGIN:VCALENDAR
VERSION:2.0
PRODID:-//FIRST Washington - ECPv4.9.13//NONSGML v1.0//EN
CALSCALE:GREGORIAN
METHOD:PUBLISH
X-WR-CALNAME:FIRST Washington
X-ORIGINAL-URL:https://firstwa.org
X-WR-CALDESC:Events for FIRST Washington
BEGIN:VTIMEZONE
TZID:UTC
BEGIN:STANDARD
TZOFFSETFROM:+0000
TZOFFSETTO:+0000
TZNAME:UTC
DTSTART:20180101T000000
END:STANDARD
END:VTIMEZONE
BEGIN:VEVENT
DTSTART;TZID=UTC:20180210T080000
DTEND;TZID=UTC:20180210T170000
DTSTAMP:20200305T221931
CREATED:20181003T023635Z
LAST-MODIFIED:20181108T004903Z
UID:2639-1518249600-1518282000@firstwa.org
SUMMARY:FLL Western WA State Championship
DESCRIPTION:
URL:https://firstwa.org/event/fll-western-wa-state-championship/
LOCATION:ShoWare Center\, 625 West James Street\, Kent\, WA\, 98032\, United States
CATEGORIES:FLL
GEO:47.3878923;-122.2400721
X-APPLE-STRUCTURED-LOCATION;VALUE=URI;X-ADDRESS=ShoWare Center 625 West James Street Kent WA 98032 United States;X-APPLE-RADIUS=500;X-TITLE=625 West James Street:geo:-122.2400721,47.3878923
END:VEVENT
END:VCALENDAR