BEGIN:VCALENDAR
VERSION:2.0
PRODID:-//FIRST Washington - ECPv4.9.13//NONSGML v1.0//EN
CALSCALE:GREGORIAN
METHOD:PUBLISH
X-WR-CALNAME:FIRST Washington
X-ORIGINAL-URL:https://firstwa.org
X-WR-CALDESC:Events for FIRST Washington
BEGIN:VTIMEZONE
TZID:UTC
BEGIN:STANDARD
TZOFFSETFROM:+0000
TZOFFSETTO:+0000
TZNAME:UTC
DTSTART:20180101T000000
END:STANDARD
END:VTIMEZONE
BEGIN:VEVENT
DTSTART;TZID=UTC:20180927T070000
DTEND;TZID=UTC:20180927T110000
DTSTAMP:20200305T212439
CREATED:20181003T023652Z
LAST-MODIFIED:20181108T004429Z
UID:2666-1538031600-1538046000@firstwa.org
SUMMARY:Snohomish STEM Summit
DESCRIPTION:Outreach to school district and community STEM collaborators \n
URL:https://firstwa.org/event/snohomish-stem-summit/
LOCATION:TBD\, United States
END:VEVENT
END:VCALENDAR