BEGIN:VCALENDAR
VERSION:2.0
PRODID:-//FIRST Washington - ECPv4.9.13//NONSGML v1.0//EN
CALSCALE:GREGORIAN
METHOD:PUBLISH
X-WR-CALNAME:FIRST Washington
X-ORIGINAL-URL:https://firstwa.org
X-WR-CALDESC:Events for FIRST Washington
BEGIN:VTIMEZONE
TZID:UTC
BEGIN:STANDARD
TZOFFSETFROM:+0000
TZOFFSETTO:+0000
TZNAME:UTC
DTSTART:20180101T000000
END:STANDARD
END:VTIMEZONE
BEGIN:VEVENT
DTSTART;TZID=UTC:20181011T090000
DTEND;TZID=UTC:20181012T153000
DTSTAMP:20200305T211952
CREATED:20181003T023653Z
LAST-MODIFIED:20181108T004241Z
UID:2671-1539248400-1539358200@firstwa.org
SUMMARY:STEM Robotics 101
DESCRIPTION:
URL:https://firstwa.org/event/stem-robotics-101-4/
LOCATION:ESD 123\, 3924 W Court St\, Pasco\, WA\, 99301\, United States
CATEGORIES:FLL
GEO:46.2413265;-119.1431397
X-APPLE-STRUCTURED-LOCATION;VALUE=URI;X-ADDRESS=ESD 123 3924 W Court St Pasco WA 99301 United States;X-APPLE-RADIUS=500;X-TITLE=3924 W Court St:geo:-119.1431397,46.2413265
END:VEVENT
BEGIN:VEVENT
DTSTART;VALUE=DATE:20181012
DTEND;VALUE=DATE:20181013
DTSTAMP:20200305T211952
CREATED:20181003T023653Z
LAST-MODIFIED:20181108T004218Z
UID:2672-1539302400-1539388799@firstwa.org
SUMMARY:WETAG 2018 Conference
DESCRIPTION:Hold the date! \n
URL:https://firstwa.org/event/wetag-2018-conference/
LOCATION:TBD\, United States
CATEGORIES:All Programs
END:VEVENT
END:VCALENDAR