BEGIN:VCALENDAR
VERSION:2.0
PRODID:-//FIRST Washington - ECPv4.9.13//NONSGML v1.0//EN
CALSCALE:GREGORIAN
METHOD:PUBLISH
X-WR-CALNAME:FIRST Washington
X-ORIGINAL-URL:https://firstwa.org
X-WR-CALDESC:Events for FIRST Washington
BEGIN:VTIMEZONE
TZID:UTC
BEGIN:STANDARD
TZOFFSETFROM:+0000
TZOFFSETTO:+0000
TZNAME:UTC
DTSTART:20180101T000000
END:STANDARD
END:VTIMEZONE
BEGIN:VEVENT
DTSTART;TZID=UTC:20181114T073000
DTEND;TZID=UTC:20181117T111500
DTSTAMP:20200305T210646
CREATED:20181003T023658Z
LAST-MODIFIED:20181108T001920Z
UID:2692-1542180600-1542453300@firstwa.org
SUMMARY:Washington State School Director's Association (WSSDA) Annual Conference (Booth #5)
DESCRIPTION:
URL:https://firstwa.org/event/washington-state-school-directors-association-wssda-annual-conference-booth-5/
LOCATION:Spokane Convention Center\, 334 W Spokane Falls Blvd\, Spokane\, WA\, 99201\, United States
CATEGORIES:All Programs
GEO:47.6605643;-117.4168229
X-APPLE-STRUCTURED-LOCATION;VALUE=URI;X-ADDRESS=Spokane Convention Center 334 W Spokane Falls Blvd Spokane WA 99201 United States;X-APPLE-RADIUS=500;X-TITLE=334 W Spokane Falls Blvd:geo:-117.4168229,47.6605643
END:VEVENT
END:VCALENDAR