BEGIN:VCALENDAR
VERSION:2.0
PRODID:-//FIRST Washington - ECPv4.9.13//NONSGML v1.0//EN
CALSCALE:GREGORIAN
METHOD:PUBLISH
X-WR-CALNAME:FIRST Washington
X-ORIGINAL-URL:https://firstwa.org
X-WR-CALDESC:Events for FIRST Washington
BEGIN:VTIMEZONE
TZID:UTC
BEGIN:STANDARD
TZOFFSETFROM:+0000
TZOFFSETTO:+0000
TZNAME:UTC
DTSTART:20190101T000000
END:STANDARD
END:VTIMEZONE
BEGIN:VEVENT
DTSTART;TZID=UTC:20190120T080000
DTEND;TZID=UTC:20190120T170000
DTSTAMP:20200305T211710
CREATED:20181003T023635Z
LAST-MODIFIED:20190118T053552Z
UID:2635-1547971200-1548003600@firstwa.org
SUMMARY:FLL Western WA Seattle Semifinals (Sun)
DESCRIPTION:\n\n\n\n\n\n\n\n \n\n\nSchedule\nTime\n\n\nVolunteer Check-in Opens\n  7:00 AM\n\n\nTeam Check-in Opens\n  8:00 AM\n\n\nCoach Meeting\n  8:30 AM\n\n\nJudge Sessions Begin\n  9:00 AM\n\n\nLunch\n12:00 PM\n\n\nOpening Ceremony\n 12:45 PM\n\n\nRobot Competition Begins\n  1:00 PM\n\n\nAwards Ceremony\n  4:00 PM\n\n\nLoad Out\n  5:00 PM\n\n\n\n\n\n\n\n\n\n\nNOTE: Schedule subject to change. Final schedules provided day of competition.\n\n\nFood: Concessions are available\n\n\nAll events need support from the attending teams in order to have enough tables and Challenge sets for the Judging rooms and Practice tables.\n\n\nTo Provide Challenge sets and Tables for Event use\, please register your equipment here: Register to Provide Event Equipment\n\n\n\n\n\n\n\n  \n
URL:https://firstwa.org/event/fll-seattle-sun/
LOCATION:Amazon Doppler Bldg\, 2021 7th Ave\, Seattle\, WA\, 98121\, United States
CATEGORIES:FLL
GEO:47.6153012;-122.3382394
X-APPLE-STRUCTURED-LOCATION;VALUE=URI;X-ADDRESS=Amazon Doppler Bldg 2021 7th Ave Seattle WA 98121 United States;X-APPLE-RADIUS=500;X-TITLE=2021 7th Ave:geo:-122.3382394,47.6153012
END:VEVENT
BEGIN:VEVENT
DTSTART;TZID=UTC:20190120T080000
DTEND;TZID=UTC:20190120T170000
DTSTAMP:20200305T211710
CREATED:20181213T120024Z
LAST-MODIFIED:20190118T053615Z
UID:3715-1547971200-1548003600@firstwa.org
SUMMARY:FLL Western WA Lacey Semifinals
DESCRIPTION:\n\n\n\n\n\n\n\n \n\n\nSchedule\nTime\n\n\nVolunteer Check-in Opens\n  7:00 AM\n\n\nTeam Check-in Opens\n  8:00 AM\n\n\nCoach Meeting\n  8:30 AM\n\n\nJudge Sessions Begin\n  9:00 AM\n\n\nLunch\n12:00 PM\n\n\nOpening Ceremony\n12:45 PM\n\n\nRobot Competition Begins\n  1:00 PM\n\n\nAwards Ceremony\n  4:00 PM\n\n\nLoad Out\n  5:00 PM\n\n\n\n\n\n\n\n\n\n\nNOTE: Schedule subject to change. Final schedules provided day of competition.\n\n\nFood: Concessions are available\n\n\nAll events need support from the attending teams in order to have enough tables and Challenge sets for the Judging rooms and Practice tables.\n\n\nTo Provide Challenge sets and Tables for Event use\, please register your equipment here: Register to Provide Event Equipment\n\n\n\n\n\n\n\n  \n
URL:https://firstwa.org/event/fll-western-wa-lacey-semifinals/
LOCATION:Chinook Middle School – Bellevue\, 2001 98th Ave NE\, Bellevue\, WA\, 98004\, United States
GEO:47.6282953;-122.2109378
X-APPLE-STRUCTURED-LOCATION;VALUE=URI;X-ADDRESS=Chinook Middle School – Bellevue 2001 98th Ave NE Bellevue WA 98004 United States;X-APPLE-RADIUS=500;X-TITLE=2001 98th Ave NE:geo:-122.2109378,47.6282953
END:VEVENT
END:VCALENDAR