BEGIN:VCALENDAR
VERSION:2.0
PRODID:-//FIRST Washington - ECPv4.9.13//NONSGML v1.0//EN
CALSCALE:GREGORIAN
METHOD:PUBLISH
X-WR-CALNAME:FIRST Washington
X-ORIGINAL-URL:https://firstwa.org
X-WR-CALDESC:Events for FIRST Washington
BEGIN:VTIMEZONE
TZID:America/Los_Angeles
BEGIN:DAYLIGHT
TZOFFSETFROM:-0800
TZOFFSETTO:-0700
TZNAME:PDT
DTSTART:20190310T100000
END:DAYLIGHT
BEGIN:STANDARD
TZOFFSETFROM:-0700
TZOFFSETTO:-0800
TZNAME:PST
DTSTART:20191103T090000
END:STANDARD
END:VTIMEZONE
BEGIN:VEVENT
DTSTART;TZID=America/Los_Angeles:20191208T070000
DTEND;TZID=America/Los_Angeles:20191208T170000
DTSTAMP:20200305T203134
CREATED:20191030T230224Z
LAST-MODIFIED:20191030T230514Z
UID:4967-1575788400-1575824400@firstwa.org
SUMMARY:FLL Eastside Issaquah Qualifier
DESCRIPTION:\n\n\n\n\n\n\n\n \n\n\nSchedule\nTime\n\n\nVolunteer Check-in\n  7:00 AM\n\n\nTeam Check-in Opens\n  8:00 AM\n\n\nCoach Meeting\n  8:30 AM\n\n\nJudge Sessions Begin\n  9:00 AM\n\n\nLunch\n 12:00 PM\n\n\nOpening Ceremony\n  12:45 PM\n\n\nRobot Competitions Begin\n  1:00 PM\n\n\nAwards Ceremony\n  4:00 PM\n\n\nLoad Out\n  5:00 PM\n\n\n\n\n\n\nNOTE: Schedule subject to change. Final schedules provided day of competition.\n\n\nAll events need support from the attending teams in order to have enough tables and Challenge sets for the Judging rooms and Practice tables.\n\n\nTo Provide Challenge sets and Tables for Event use\, please register your equipment here: Register to Provide Event Equipment\n\n\n\n\n\n\n\n
URL:https://firstwa.org/event/fll-eastside-issaquah-qualifier/
LOCATION:Liberty High School\, 16655 SE 136th St\, Renton\, WA\, 98059\, United States
CATEGORIES:FLL
GEO:47.4792114;-122.1177091
X-APPLE-STRUCTURED-LOCATION;VALUE=URI;X-ADDRESS=Liberty High School 16655 SE 136th St Renton WA 98059 United States;X-APPLE-RADIUS=500;X-TITLE=16655 SE 136th St:geo:-122.1177091,47.4792114
END:VEVENT
BEGIN:VEVENT
DTSTART;TZID=America/Los_Angeles:20191208T073000
DTEND;TZID=America/Los_Angeles:20191208T163000
DTSTAMP:20200305T203134
CREATED:20191030T231255Z
LAST-MODIFIED:20191104T194116Z
UID:4954-1575790200-1575822600@firstwa.org
SUMMARY:FLL North Seattle Qualifier (Sunday)
DESCRIPTION:\n\n\n\n\n\n\n\n \n\n\nSchedule\nTime\n\n\nVolunteer Check-in\n  7:30 AM\n\n\nTeam Check-in Opens\n  8:00 AM\n\n\nCoach Meeting\n  8:30 AM\n\n\nJudge Sessions Begin\n  9:00 AM\n\n\nLunch\n 12:00 PM\n\n\nOpening Ceremony\n  12:45 PM\n\n\nRobot Competitions Begin\n  1:00 PM\n\n\nAwards Ceremony\n  4:00 PM\n\n\nLoad Out\n  4:30 PM\n\n\n\n\n\n\nNOTE: Schedule subject to change. Final schedules provided day of competition.\n\n\nAll events need support from the attending teams in order to have enough tables and Challenge sets for the Judging rooms and Practice tables.\n\n\nTo Provide Challenge sets and Tables for Event use\, please register your equipment here: Register to Provide Event Equipment\n\n\n\n\n
URL:https://firstwa.org/event/fll-north-seattle-qualifier-sunday/
LOCATION:Ballard High School\, 1418 NW 65th St\, Seattle\, WA\, 98117\, United States
CATEGORIES:FLL
GEO:47.676859;-122.374338
X-APPLE-STRUCTURED-LOCATION;VALUE=URI;X-ADDRESS=Ballard High School 1418 NW 65th St Seattle WA 98117 United States;X-APPLE-RADIUS=500;X-TITLE=1418 NW 65th St:geo:-122.374338,47.676859
END:VEVENT
BEGIN:VEVENT
DTSTART;TZID=America/Los_Angeles:20191208T080000
DTEND;TZID=America/Los_Angeles:20191208T170000
DTSTAMP:20200305T203134
CREATED:20191030T230723Z
LAST-MODIFIED:20191104T194032Z
UID:4940-1575792000-1575824400@firstwa.org
SUMMARY:FLL Eastern\, Spokane Qualifier (Sunday)
DESCRIPTION:\n\n\n\n\n\n\n\n \n\n\nSchedule\nTime\n\n\nTeam Check-in\n  8:00 AM\n\n\nCoaches Meeting\n  8:45 AM\n\n\nJudging Seassions\n  9:15 AM\n\n\nRobot Games Opening Ceremony (Parade of Teams\, Welcome to Spectators)\n  12:00 PM\n\n\nRound one (times are approx)\n 12:45 PM\n\n\nRound two\n  1:45 PM\n\n\nRound three\n  2:45 PM\n\n\nAwards\n  4:00 PM\n\n\n\n\n\n\nNOTE: Schedule subject to change. Final schedules provided day of competition.\n\n\nFood: TBD\n\n\nAll events need support from the attending teams in order to have enough tables and Challenge sets for the Judging rooms and Practice tables.\n\n\nTo Provide Challenge sets and Tables for Event use\, please register your equipment here: Register to Provide Event Equipment\n\n\n\n\n\n\n\n
URL:https://firstwa.org/event/fll-eastern-qualifier-sunday/
LOCATION:Salk Middle School\, 6411 N Alberta St\,\, Spokane\, WA\, 99208\, United States
CATEGORIES:FLL
GEO:47.717338;-117.449867
X-APPLE-STRUCTURED-LOCATION;VALUE=URI;X-ADDRESS=Salk Middle School 6411 N Alberta St Spokane WA 99208 United States;X-APPLE-RADIUS=500;X-TITLE=6411 N Alberta St\,:geo:-117.449867,47.717338
END:VEVENT
END:VCALENDAR