BEGIN:VCALENDAR
VERSION:2.0
PRODID:-//FIRST Washington - ECPv4.9.13//NONSGML v1.0//EN
CALSCALE:GREGORIAN
METHOD:PUBLISH
X-WR-CALNAME:FIRST Washington
X-ORIGINAL-URL:https://firstwa.org
X-WR-CALDESC:Events for FIRST Washington
BEGIN:VTIMEZONE
TZID:America/Los_Angeles
BEGIN:DAYLIGHT
TZOFFSETFROM:-0800
TZOFFSETTO:-0700
TZNAME:PDT
DTSTART:20190310T100000
END:DAYLIGHT
BEGIN:STANDARD
TZOFFSETFROM:-0700
TZOFFSETTO:-0800
TZNAME:PST
DTSTART:20191103T090000
END:STANDARD
END:VTIMEZONE
BEGIN:VEVENT
DTSTART;TZID=America/Los_Angeles:20191215T070000
DTEND;TZID=America/Los_Angeles:20191215T170000
DTSTAMP:20200305T202041
CREATED:20191104T200252Z
LAST-MODIFIED:20191104T200252Z
UID:5032-1576393200-1576429200@firstwa.org
SUMMARY:FLL South Sound Tumwater Qualifier (Sunday)
DESCRIPTION:\n\n\n\n\n\n\n\n \n\n\nSchedule\nTime\n\n\nVolunteer Check-in\n  7:00 AM\n\n\nTeam Check-in Opens\n  8:00 AM\n\n\nCoach Meeting\n  8:30 AM\n\n\nJudge Sessions Begin\n  9:00 AM\n\n\nLunch\n 12:00 PM\n\n\nOpening Ceremony\n  12:45 PM\n\n\nRobot Competitions Begin\n  1:00 PM\n\n\nAwards Ceremony\n  4:00 PM\n\n\nLoad Out\n  5:00 PM\n\n\n\n\n\n\nNOTE: Schedule subject to change. Final schedules provided day of competition.\n\n\nAll events need support from the attending teams in order to have enough tables and Challenge sets for the Judging rooms and Practice tables.\n\n\nTo Provide Challenge sets and Tables for Event use\, please register your equipment here: Register to Provide Event Equipment\n\n\n\n\n
URL:https://firstwa.org/event/fll-south-sound-tumwater-qualifier-sunday/
LOCATION:George Washington Bush Middle School\, 2120 83rd Ave SW\, Tumwater\, WA\, 98512\, United States
CATEGORIES:FLL
GEO:46.9681313;-122.9273342
X-APPLE-STRUCTURED-LOCATION;VALUE=URI;X-ADDRESS=George Washington Bush Middle School 2120 83rd Ave SW Tumwater WA 98512 United States;X-APPLE-RADIUS=500;X-TITLE=2120 83rd Ave SW:geo:-122.9273342,46.9681313
END:VEVENT
BEGIN:VEVENT
DTSTART;TZID=America/Los_Angeles:20191215T073000
DTEND;TZID=America/Los_Angeles:20191215T170000
DTSTAMP:20200305T202041
CREATED:20191030T222844Z
LAST-MODIFIED:20191104T194000Z
UID:4973-1576395000-1576429200@firstwa.org
SUMMARY:FLL Eastside\, Bellevue Qualifier (Sunday)
DESCRIPTION:\n\n\n\n\n\n\n\n \n\n\nSchedule\nTime\n\n\nVolunteer Check-in\n  7:30 AM\n\n\nTeam Check-in Opens\n  8:00 AM\n\n\nCoach Meeting\n  8:30 AM\n\n\nJudge Sessions Begin\n  9:00 AM\n\n\nLunch\n 12:00 PM\n\n\nOpening Ceremony\n  12:45 PM\n\n\nRobot Competitions Begin\n  1:00 PM\n\n\nAwards Ceremony\n  4:00 PM\n\n\nLoad Out\n  5:00 PM\n\n\n\n\n\n\nNOTE: Schedule subject to change. Final schedules provided day of competition.\n\n\nAll events need support from the attending teams in order to have enough tables and Challenge sets for the Judging rooms and Practice tables.\n\n\nTo Provide Challenge sets and Tables for Event use\, please register your equipment here: Register to Provide Event Equipment\n\n\n\n\n\n\n\n
URL:https://firstwa.org/event/fll-eastside-bellevue-qualifier-sunday/
LOCATION:Chinook Middle School – Bellevue\, 2001 98th Ave NE\, Bellevue\, WA\, 98004\, United States
CATEGORIES:FLL
GEO:47.6282953;-122.2109378
X-APPLE-STRUCTURED-LOCATION;VALUE=URI;X-ADDRESS=Chinook Middle School – Bellevue 2001 98th Ave NE Bellevue WA 98004 United States;X-APPLE-RADIUS=500;X-TITLE=2001 98th Ave NE:geo:-122.2109378,47.6282953
END:VEVENT
BEGIN:VEVENT
DTSTART;TZID=America/Los_Angeles:20191215T073000
DTEND;TZID=America/Los_Angeles:20191215T170000
DTSTAMP:20200305T202041
CREATED:20191104T200110Z
LAST-MODIFIED:20191104T200110Z
UID:5030-1576395000-1576429200@firstwa.org
SUMMARY:FLL South King Auburn Qualifier (Sunday)
DESCRIPTION:\n\n\n\n\n\n\n\n \n\n\nSchedule\nTime\n\n\nVolunteer Check-in\n  7:30 AM\n\n\nTeam Check-in Opens\n  8:00 AM\n\n\nCoach Meeting\n  8:30 AM\n\n\nJudge Sessions Begin\n  9:00 AM\n\n\nLunch\n 12:00 PM\n\n\nOpening Ceremony\n  12:45 PM\n\n\nRobot Competitions Begin\n  1:00 PM\n\n\nAwards Ceremony\n  4:00 PM\n\n\nLoad Out\n  5:00 PM\n\n\n\n\n\n\nNOTE: Schedule subject to change. Final schedules provided day of competition.\n\n\nAll events need support from the attending teams in order to have enough tables and Challenge sets for the Judging rooms and Practice tables.\n\n\nTo Provide Challenge sets and Tables for Event use\, please register your equipment here: Register to Provide Event Equipment\n\n\n\n\n
URL:https://firstwa.org/event/fll-south-king-auburn-qualifier-sunday/
LOCATION:Auburn Mountainview High School\, 28900 124th Ave SE\, Auburn\, WA\, 98092\, United States
CATEGORIES:FLL
GEO:47.3419617;-122.171867
X-APPLE-STRUCTURED-LOCATION;VALUE=URI;X-ADDRESS=Auburn Mountainview High School 28900 124th Ave SE Auburn WA 98092 United States;X-APPLE-RADIUS=500;X-TITLE=28900 124th Ave SE:geo:-122.171867,47.3419617
END:VEVENT
BEGIN:VEVENT
DTSTART;TZID=America/Los_Angeles:20191215T080000
DTEND;TZID=America/Los_Angeles:20191215T170000
DTSTAMP:20200305T202041
CREATED:20191104T200004Z
LAST-MODIFIED:20200116T024159Z
UID:5028-1576396800-1576429200@firstwa.org
SUMMARY:FLL North Sound Everett Qualifier (Sunday)
DESCRIPTION:\n\n\n\n\n\n\n\n \n\n\nSchedule\nTime\n\n\nVolunteer Check-in\n  7:00 AM\n\n\nTeam Check-in Opens\n  8:00 AM\n\n\nCoach Meeting\n  8:30 AM\n\n\nJudge Sessions Begin\n  9:00 AM\n\n\nLunch\n 12:00 PM\n\n\nOpening Ceremony\n  12:45 PM\n\n\nRobot Competitions Begin\n  1:00 PM\n\n\nAwards Ceremony\n  4:30 PM\n\n\nLoad Out\n  5:00 PM\n\n\n\n\n\n\nNOTE: Schedule subject to change. Final schedules provided day of competition. \nAll events need support from the attending teams in order to have enough tables and Challenge sets for the Judging rooms and Practice tables. \nTo Provide Challenge sets and Tables for Event use\, please register your equipment here: Register to Provide Event Equipment\n\n\n\n
URL:https://firstwa.org/event/fll-north-sound-everett-qualifier-sunday/
LOCATION:Cascade High School\, 801 E Casino Rd\, Everett\, WA\, 98203\, United States
CATEGORIES:FLL
GEO:47.9244022;-122.2227447
X-APPLE-STRUCTURED-LOCATION;VALUE=URI;X-ADDRESS=Cascade High School 801 E Casino Rd Everett WA 98203 United States;X-APPLE-RADIUS=500;X-TITLE=801 E Casino Rd:geo:-122.2227447,47.9244022
END:VEVENT
END:VCALENDAR