BEGIN:VCALENDAR
VERSION:2.0
PRODID:-//FIRST Washington - ECPv4.9.13//NONSGML v1.0//EN
CALSCALE:GREGORIAN
METHOD:PUBLISH
X-WR-CALNAME:FIRST Washington
X-ORIGINAL-URL:https://firstwa.org
X-WR-CALDESC:Events for FIRST Washington
BEGIN:VTIMEZONE
TZID:America/Los_Angeles
BEGIN:DAYLIGHT
TZOFFSETFROM:-0800
TZOFFSETTO:-0700
TZNAME:PDT
DTSTART:20200308T100000
END:DAYLIGHT
BEGIN:STANDARD
TZOFFSETFROM:-0700
TZOFFSETTO:-0800
TZNAME:PST
DTSTART:20201101T090000
END:STANDARD
END:VTIMEZONE
BEGIN:VEVENT
DTSTART;TZID=America/Los_Angeles:20200111T070000
DTEND;TZID=America/Los_Angeles:20200111T173000
DTSTAMP:20200305T210712
CREATED:20200116T093735Z
LAST-MODIFIED:20200116T103333Z
UID:5413-1578726000-1578763800@firstwa.org
SUMMARY:FTC Pasteur Interleague
DESCRIPTION:\nHenry Jackson High School\, Mill Creek\, WA \n\n\n\nNOTE: Schedule subject to change. Final schedules provided day of competition.\n\n\n\n\n\n\n\n\n\n\nSchedule\nTime\n\n\nVolunteer Check-in\n7:00 AM\n\n\nTeam Check-in Opens\n8:00 AM\n\n\nJudging Begins\n8:30 AM\n\n\nCoaches Meeting\n9:00 AM\n\n\nJudging Sessions End\n10:30 PM\n\n\nOpening Ceremony\n10:45 PM\n\n\nQualification Rounds\n11:00 PM\n\n\nLunch\n12:00 PM\n\n\nQualification Rounds Resume\n1:00 PM\n\n\nAlliance Selection\n3:30 PM\n\n\nFinals Rounds\n4:00 PM\n\n\nAwards\n5:00 PM\n\n\nLoad Out\n5:30 PM\n\n\n\n\n\n\nFood: Concessions will be offered but there will not be lunch options.\n\n\n\n\n  \nInterleague Rankings: Pasteur Interleague Championship Pre-Event Rankings 19-20\n \nTeams Attending:\n \n
URL:https://firstwa.org/event/ftc-pasteur-interleague/
LOCATION:Henry M. Jackson High School\, 1508 136th St SE\, Mill Creek\, WA\, 98012\, United States
CATEGORIES:FTC
GEO:47.873441;-122.2092586
X-APPLE-STRUCTURED-LOCATION;VALUE=URI;X-ADDRESS=Henry M. Jackson High School 1508 136th St SE Mill Creek WA 98012 United States;X-APPLE-RADIUS=500;X-TITLE=1508 136th St SE:geo:-122.2092586,47.873441
END:VEVENT
BEGIN:VEVENT
DTSTART;TZID=America/Los_Angeles:20200111T070000
DTEND;TZID=America/Los_Angeles:20200111T173000
DTSTAMP:20200305T210713
CREATED:20200116T104307Z
LAST-MODIFIED:20200116T105919Z
UID:5419-1578726000-1578763800@firstwa.org
SUMMARY:FTC Tesla Interleague
DESCRIPTION:\nBaker Middle School\, Tacoma\, WA \n\n\n\nNOTE: Schedule subject to change. Final schedules provided day of competition.\n\n\n\n\n\n\n\n\n\n\nSchedule\nTime\n\n\nVolunteer Check-in\n7:00 AM\n\n\nTeam Check-in Opens\n8:00 AM\n\n\nJudging Begins\n8:30 AM\n\n\nCoaches Meeting\n9:00 AM\n\n\nJudging Sessions End\n10:30 PM\n\n\nOpening Ceremony\n10:45 PM\n\n\nQualification Rounds\n11:00 PM\n\n\nLunch\n12:00 PM\n\n\nQualification Rounds Resume\n12:30 PM\n\n\nAlliance Selection\n3:30 PM\n\n\nFinals Rounds\n4:00 PM\n\n\nAwards\n5:00 PM\n\n\nLoad Out\n5:30 PM\n\n\n\n\n\n\nTeams will need to be prepared to start matches early.\n\n\n\n\n  \nInterleague Rankings: Tesla Interleague Championship Pre-Event Rankings 19-20\n \nTeams Attending:\n \n
URL:https://firstwa.org/event/ftc-tesla-interleague/
LOCATION:Baker Middle School\, 8001 S J St\, Tacoma\, WA\, 98408\, United States
CATEGORIES:FTC
GEO:47.1834681;-122.4462625
X-APPLE-STRUCTURED-LOCATION;VALUE=URI;X-ADDRESS=Baker Middle School 8001 S J St Tacoma WA 98408 United States;X-APPLE-RADIUS=500;X-TITLE=8001 S J St:geo:-122.4462625,47.1834681
END:VEVENT
BEGIN:VEVENT
DTSTART;TZID=America/Los_Angeles:20200111T083000
DTEND;TZID=America/Los_Angeles:20200111T161500
DTSTAMP:20200305T210713
CREATED:20200116T085623Z
LAST-MODIFIED:20200116T085623Z
UID:5400-1578731400-1578759300@firstwa.org
SUMMARY:FTC Curie Interleague
DESCRIPTION:\nHanford High School\, Richland\, WA \n\n\n\nNOTE: Schedule subject to change. Final schedules provided day of competition.\n\n\n\n\n\n\n\n\n\n\nSchedule\nTime\n\n\nVolunteer Check-in\n8:30 AM\n\n\nTeam Check-in Opens\n9:00 AM\n\n\nJudging Begins\n9:30 AM\n\n\nCoaches Meeting\n10:00 AM\n\n\nLunch\n11:30 PM\n\n\nOpening Ceremony\n12:00 PM\n\n\nQualification Rounds\n12:15 PM\n\n\nAlliance Selection\n2:45 PM\n\n\nFinals Rounds\n3:00 PM\n\n\nAwards\n3:45 PM\n\n\nLoad Out\n4:15 PM\n\n\n\n\n\n\nFood: Winco and Safeway are grocery stores that are close by.\n\n\n\n\n \nInterleague Rankings: Curie Interleague Championship Pre-Event Rankings 19-20 \nTeams Attending: \n \n
URL:https://firstwa.org/event/ftc-curie-interleague/
LOCATION:Hanford High School\, 450 Hanford St\, Richland\, WA\, 99354\, United States
GEO:46.325283;-119.2684364
X-APPLE-STRUCTURED-LOCATION;VALUE=URI;X-ADDRESS=Hanford High School 450 Hanford St Richland WA 99354 United States;X-APPLE-RADIUS=500;X-TITLE=450 Hanford St:geo:-119.2684364,46.325283
END:VEVENT
END:VCALENDAR