BEGIN:VCALENDAR
VERSION:2.0
PRODID:-//FIRST Washington - ECPv4.9.13//NONSGML v1.0//EN
CALSCALE:GREGORIAN
METHOD:PUBLISH
X-WR-CALNAME:FIRST Washington
X-ORIGINAL-URL:https://firstwa.org
X-WR-CALDESC:Events for FIRST Washington
BEGIN:VTIMEZONE
TZID:America/Los_Angeles
BEGIN:DAYLIGHT
TZOFFSETFROM:-0800
TZOFFSETTO:-0700
TZNAME:PDT
DTSTART:20200308T100000
END:DAYLIGHT
BEGIN:STANDARD
TZOFFSETFROM:-0700
TZOFFSETTO:-0800
TZNAME:PST
DTSTART:20201101T090000
END:STANDARD
END:VTIMEZONE
BEGIN:VEVENT
DTSTART;TZID=America/Los_Angeles:20200118T070000
DTEND;TZID=America/Los_Angeles:20200118T170000
DTSTAMP:20200305T210941
CREATED:20200116T002330Z
LAST-MODIFIED:20200116T062119Z
UID:5374-1579330800-1579366800@firstwa.org
SUMMARY:FLL Eastern WA State Championship
DESCRIPTION:Salk Middle School\, Spokane\, WA \n\n\n\nNOTE: Schedule subject to change. Final schedules provided day of competition.\n\n\n\n\n\n\n \n\n\nSchedule\nTime\n\n\nVolunteer Check-in\n7:00 AM\n\n\nTeam Check-in Opens\n8:00 AM\n\n\nCoach Meeting\n8:30 AM\n\n\nJudge Sessions Begin\n9:00 AM\n\n\nLunch\n12:00 PM\n\n\nOpening Ceremony\n12:45 PM\n\n\nRobot Competitions Begin\n1:00 PM\n\n\nAwards Ceremony\n4:00 PM\n\n\nLoad Out\n5:00 PM\n\n\n\n\n\n\nAll events need support from the attending teams in order to have enough tables and Challenge sets for the Judging rooms and Practice tables. \nTo Provide Challenge sets and Tables for Event use\, please register your equipment here: Register to Provide Event Equipment\n\n\n\nAwards and Advancement from the Eastern Washington State Championship:\nTBD \nTeams Attending the Eastern Washington State Championship: \n\n﻿ \n
URL:https://firstwa.org/event/fll-eastern-washington-state-championships/
LOCATION:Salk Middle School\, 6411 N Alberta St\,\, Spokane\, WA\, 99208\, United States
CATEGORIES:FLL
GEO:47.717338;-117.449867
X-APPLE-STRUCTURED-LOCATION;VALUE=URI;X-ADDRESS=Salk Middle School 6411 N Alberta St Spokane WA 99208 United States;X-APPLE-RADIUS=500;X-TITLE=6411 N Alberta St\,:geo:-117.449867,47.717338
END:VEVENT
BEGIN:VEVENT
DTSTART;TZID=America/Los_Angeles:20200118T070000
DTEND;TZID=America/Los_Angeles:20200118T173000
DTSTAMP:20200305T210941
CREATED:20200116T050802Z
LAST-MODIFIED:20200116T050802Z
UID:5382-1579330800-1579368600@firstwa.org
SUMMARY:FLL Western WA Seattle Semifinal (Saturday)
DESCRIPTION:Amazon Meeting Center\, Seattle\, WA \n\n\n\nNOTE: Schedule subject to change. Final schedules provided the day of the competition.\n\n\n\n\n\n\n\n\n\nSchedule\nTime\n\n\nVolunteer Check-in\n7:00 AM\n\n\nTeam Check-in Opens\n8:00 AM\n\n\nCoach Meeting\n8:30 AM\n\n\nJudge Sessions Begin\n9:00 AM\n\n\nLunch\n12:00 PM\n\n\nOpening Ceremony\n12:45 PM\n\n\nRobot Competitions Begin\n1:00 PM\n\n\nAwards Ceremony\n5:00 PM\n\n\nLoad Out\n5:30 PM\n\n\n\n\n\n\nAll events need support from the attending teams in order to have enough tables and Challenge sets for the Judging rooms and Practice tables. \nTo Provide Challenge sets and Tables for Event use\, please register your equipment here: Register to Provide Event Equipment\n\n\n\n
URL:https://firstwa.org/event/fll-western-wa-seattle-semifinal-saturday/
LOCATION:Amazon Meeting Center\, 2031 7th Ave\, Seattle\, WA 98121\, Seattle\, WA\, 98121\, United States
CATEGORIES:FLL
GEO:47.6153128;-122.3388423
X-APPLE-STRUCTURED-LOCATION;VALUE=URI;X-ADDRESS=Amazon Meeting Center 2031 7th Ave Seattle WA 98121 Seattle WA 98121 United States;X-APPLE-RADIUS=500;X-TITLE=2031 7th Ave\, Seattle\, WA 98121:geo:-122.3388423,47.6153128
END:VEVENT
END:VCALENDAR