BEGIN:VCALENDAR
VERSION:2.0
PRODID:-//FIRST Washington - ECPv4.9.13//NONSGML v1.0//EN
CALSCALE:GREGORIAN
METHOD:PUBLISH
X-WR-CALNAME:FIRST Washington
X-ORIGINAL-URL:https://firstwa.org
X-WR-CALDESC:Events for FIRST Washington
BEGIN:VTIMEZONE
TZID:America/Los_Angeles
BEGIN:DAYLIGHT
TZOFFSETFROM:-0800
TZOFFSETTO:-0700
TZNAME:PDT
DTSTART:20200308T100000
END:DAYLIGHT
BEGIN:STANDARD
TZOFFSETFROM:-0700
TZOFFSETTO:-0800
TZNAME:PST
DTSTART:20201101T090000
END:STANDARD
END:VTIMEZONE
BEGIN:VEVENT
DTSTART;TZID=America/Los_Angeles:20200119T070000
DTEND;TZID=America/Los_Angeles:20200119T173000
DTSTAMP:20200305T211000
CREATED:20200116T051658Z
LAST-MODIFIED:20200116T051658Z
UID:5386-1579417200-1579455000@firstwa.org
SUMMARY:FLL Western WA Seattle Semifinal (Sunday)
DESCRIPTION:Amazon Meeting Center\, Seattle\, WA \n\n\n\nNOTE: Schedule subject to change. Final schedules provided the day of the competition.\n\n\n\n\n\n\n\n\n\nSchedule\nTime\n\n\nVolunteer Check-in\n7:00 AM\n\n\nTeam Check-in Opens\n8:00 AM\n\n\nCoach Meeting\n8:30 AM\n\n\nJudge Sessions Begin\n9:00 AM\n\n\nLunch\n12:00 PM\n\n\nOpening Ceremony\n12:45 PM\n\n\nRobot Competitions Begin\n1:00 PM\n\n\nAwards Ceremony\n4:00 PM\n\n\nLoad Out\n5:30 PM\n\n\n\n\n\n\nAll events need support from the attending teams in order to have enough tables and Challenge sets for the Judging rooms and Practice tables. \nTo Provide Challenge sets and Tables for Event use\, please register your equipment here: Register to Provide Event Equipment\n\n\n\n
URL:https://firstwa.org/event/fll-western-wa-seattle-semifinal-sunday/
LOCATION:Amazon Meeting Center\, 2031 7th Ave\, Seattle\, WA 98121\, Seattle\, WA\, 98121\, United States
CATEGORIES:FLL
GEO:47.6153128;-122.3388423
X-APPLE-STRUCTURED-LOCATION;VALUE=URI;X-ADDRESS=Amazon Meeting Center 2031 7th Ave Seattle WA 98121 Seattle WA 98121 United States;X-APPLE-RADIUS=500;X-TITLE=2031 7th Ave\, Seattle\, WA 98121:geo:-122.3388423,47.6153128
END:VEVENT
BEGIN:VEVENT
DTSTART;TZID=America/Los_Angeles:20200119T070000
DTEND;TZID=America/Los_Angeles:20200119T170000
DTSTAMP:20200305T211000
CREATED:20200116T055833Z
LAST-MODIFIED:20200116T055833Z
UID:5389-1579417200-1579453200@firstwa.org
SUMMARY:FLL Western WA Lacey Semifinal
DESCRIPTION:\nChinook Middle School\, Lacey\, WA \n\n\n\nNOTE: Schedule subject to change. Final schedules provided day of competition.\n\n\n\n\n\n\n \n\n\nSchedule\nTime\n\n\nVolunteer Check-in\n  7:00 AM\n\n\nTeam Check-in Opens\n  8:00 AM\n\n\nCoach Meeting\n  8:30 AM\n\n\nJudge Sessions Begin\n  9:00 AM\n\n\nLunch\n 12:00 PM\n\n\nOpening Ceremony\n  12:45 PM\n\n\nRobot Competitions Begin\n  1:00 PM\n\n\nAwards Ceremony\n  4:00 PM\n\n\nLoad Out\n  5:00 PM\n\n\n\n\n\nAll events need support from the attending teams in order to have enough tables and Challenge sets for the Judging rooms and Practice tables. \nTo Provide Challenge sets and Tables for Event use\, please register your equipment here: Register to Provide Event Equipment\n\n\n\n
URL:https://firstwa.org/event/fll-western-wa-lacey-semifinal/
LOCATION:Chinook Middle School – Lacey\, 4301 6th Ave NE\, Lacey\, WA\, 98516\, United States
GEO:47.0531463;-122.8269179
X-APPLE-STRUCTURED-LOCATION;VALUE=URI;X-ADDRESS=Chinook Middle School – Lacey 4301 6th Ave NE Lacey WA 98516 United States;X-APPLE-RADIUS=500;X-TITLE=4301 6th Ave NE:geo:-122.8269179,47.0531463
END:VEVENT
BEGIN:VEVENT
DTSTART;TZID=America/Los_Angeles:20200119T070000
DTEND;TZID=America/Los_Angeles:20200119T170000
DTSTAMP:20200305T211000
CREATED:20200116T061340Z
LAST-MODIFIED:20200116T061340Z
UID:5395-1579417200-1579453200@firstwa.org
SUMMARY:FLL Western WA Maple Valley Semifinal
DESCRIPTION:\nSummit Trail Middle School\, Ravensdale\, WA \n\n\n\nNOTE: Schedule subject to change. Final schedules provided day of competition.\n\n\n\n\n\n\n \n\n\nSchedule\nTime\n\n\nVolunteer Check-in\n  7:00 AM\n\n\nTeam Check-in Opens\n  8:00 AM\n\n\nCoach Meeting\n  8:30 AM\n\n\nJudge Sessions Begin\n  9:00 AM\n\n\nLunch\n 12:00 PM\n\n\nOpening Ceremony\n  12:45 PM\n\n\nRobot Competitions Begin\n  1:00 PM\n\n\nAwards Ceremony\n  4:00 PM\n\n\nLoad Out\n  5:00 PM\n\n\n\n\n\nAll events need support from the attending teams in order to have enough tables and Challenge sets for the Judging rooms and Practice tables. \nTo Provide Challenge sets and Tables for Event use\, please register your equipment here: Register to Provide Event Equipment\n\n\n\n
URL:https://firstwa.org/event/fll-western-wa-maple-valley-semifinal/
LOCATION:Summit Trail Middle School\, 25600 SE Summit Landsburg Rd\, Ravensdale\, WA\, 98051\, United States
GEO:47.3729086;-122.0002218
X-APPLE-STRUCTURED-LOCATION;VALUE=URI;X-ADDRESS=Summit Trail Middle School 25600 SE Summit Landsburg Rd Ravensdale WA 98051 United States;X-APPLE-RADIUS=500;X-TITLE=25600 SE Summit Landsburg Rd:geo:-122.0002218,47.3729086
END:VEVENT
END:VCALENDAR