BEGIN:VCALENDAR
VERSION:2.0
PRODID:-//FIRST Washington - ECPv4.9.13//NONSGML v1.0//EN
CALSCALE:GREGORIAN
METHOD:PUBLISH
X-WR-CALNAME:FIRST Washington
X-ORIGINAL-URL:https://firstwa.org
X-WR-CALDESC:Events for FIRST Washington
BEGIN:VTIMEZONE
TZID:America/Los_Angeles
BEGIN:DAYLIGHT
TZOFFSETFROM:-0800
TZOFFSETTO:-0700
TZNAME:PDT
DTSTART:20200308T100000
END:DAYLIGHT
BEGIN:STANDARD
TZOFFSETFROM:-0700
TZOFFSETTO:-0800
TZNAME:PST
DTSTART:20201101T090000
END:STANDARD
END:VTIMEZONE
BEGIN:VEVENT
DTSTART;TZID=America/Los_Angeles:20200126T070000
DTEND;TZID=America/Los_Angeles:20200126T170000
DTSTAMP:20200305T211243
CREATED:20200116T065946Z
LAST-MODIFIED:20200124T213607Z
UID:5397-1580022000-1580058000@firstwa.org
SUMMARY:FLL Western WA State Championship
DESCRIPTION:ShoWare Center\, Kent\, WA \n\n\n\nNOTE: Schedule subject to change. Final schedules provided day of competition.\n\n\n\n\n\n\n \n\n\nSchedule\nTime\n\n\nVolunteer Check-in\n7:00 AM\n\n\nTeam Check-in Opens\n8:00 AM\n\n\nCoach Meeting\n8:30 AM\n\n\nJudge Sessions Begin\n9:00 AM\n\n\nLunch\n12:00 PM\n\n\nOpening Ceremony\n12:45 PM\n\n\nRobot Competitions Begin\n1:00 PM\n\n\nAwards Ceremony\n4:00 PM\n\n\nLoad Out\n5:00 PM\n\n\n\n\n\n\nAll events need support from the attending teams in order to have enough tables and Challenge sets for the Judging rooms and Practice tables. \nTo Provide Challenge sets and Tables for Event use\, please register your equipment here: Register to Provide Event Equipment\n\n\n\nSchedules by Team- FLL schedules by team state \nAwards and Advancement from the Western Washington State Championship:\nTBD \nTeams Attending the Western Washington State Championship:\n \n  \n\n
URL:https://firstwa.org/event/fll-western-wa-state-championship-3/
LOCATION:ShoWare Center\, 625 West James Street\, Kent\, WA\, 98032\, United States
CATEGORIES:FLL
GEO:47.3878923;-122.2400721
X-APPLE-STRUCTURED-LOCATION;VALUE=URI;X-ADDRESS=ShoWare Center 625 West James Street Kent WA 98032 United States;X-APPLE-RADIUS=500;X-TITLE=625 West James Street:geo:-122.2400721,47.3878923
END:VEVENT
BEGIN:VEVENT
DTSTART;TZID=America/Los_Angeles:20200126T070000
DTEND;TZID=America/Los_Angeles:20200126T173000
DTSTAMP:20200305T211243
CREATED:20200116T191346Z
LAST-MODIFIED:20200116T191346Z
UID:5433-1580022000-1580059800@firstwa.org
SUMMARY:FTC State Championship
DESCRIPTION:\nShoWare Center\, Kent\, WA \nLive Stream: TBD \n\n\n\nNOTE: Schedule subject to change. Final schedules provided day of competition.\n\n\n\n\n\n\n\n\n\n\nSchedule\nTime\n\n\nVolunteer Check-in\n7:00 AM\n\n\nTeam Check-in Opens\n8:00 AM\n\n\nJudging Begins\n8:30 AM\n\n\nAdult Coaches Meeting\n9:30 AM\n\n\nStudent Driver Meeting\n10:30 PM\n\n\nMatches Start\n11:00 PM\n\n\nLunch\n12:00 PM\n\n\nOpening Ceremony\n12:45 PM\n\n\nAlliance Selection\n4:00 PM\n\n\nAwards\n 5:30 PM\n\n\n\n\n\n\nFood: Concessions available for sale at ShoWare Center. Kent Station is directly across the street and has additional restaurant options. For additional dining options please visit: http://www.visitkent.com/discover/dining-in-kent/\n\n\n\n\n  \nQualified Teams:\n \n
URL:https://firstwa.org/event/ftc-state-championship/
LOCATION:ShoWare Center\, 625 West James Street\, Kent\, WA\, 98032\, United States
CATEGORIES:FTC
GEO:47.3878923;-122.2400721
X-APPLE-STRUCTURED-LOCATION;VALUE=URI;X-ADDRESS=ShoWare Center 625 West James Street Kent WA 98032 United States;X-APPLE-RADIUS=500;X-TITLE=625 West James Street:geo:-122.2400721,47.3878923
END:VEVENT
BEGIN:VEVENT
DTSTART;TZID=America/Los_Angeles:20200126T134500
DTEND;TZID=America/Los_Angeles:20200126T153000
DTSTAMP:20200305T211243
CREATED:20200121T180214Z
LAST-MODIFIED:20200121T180820Z
UID:5571-1580046300-1580052600@firstwa.org
SUMMARY:FLL Jr Kent Expo
DESCRIPTION:This Event is Full \nShoWare Center\, Kent\, WA \n\n\n\n\nTypical FLL Jr Event Schedule\n\n\n\n\n\n\n \n\n\n\n\nSchedule\nTime\n\n\nTeam Check-in\n1:45 PM\n\n\nReviewers visit Teams at their Display table\n2:15 PM\n\n\nAward Ceremony (approximate)\n3:30 PM\n\n\n\n\n\n\n*Events that are held at the same location as another FIRST event will have the opportunity for students to visit teams in the Pits and watch the Robot game. Please leave Expo materials in your vehicle while you are visiting the other programs.\n\n\n\n  \nRegistered Teams: \nBelow are the teams that have been confirmed in their Expos. Check back if you do not see your team. We update this list once a week.  \n﻿﻿ \n
URL:https://firstwa.org/event/fll-jr-kent-expo/
LOCATION:ShoWare Center\, 625 West James Street\, Kent\, WA\, 98032\, United States
CATEGORIES:FLL Jr
GEO:47.3878923;-122.2400721
X-APPLE-STRUCTURED-LOCATION;VALUE=URI;X-ADDRESS=ShoWare Center 625 West James Street Kent WA 98032 United States;X-APPLE-RADIUS=500;X-TITLE=625 West James Street:geo:-122.2400721,47.3878923
END:VEVENT
END:VCALENDAR