BEGIN:VCALENDAR
VERSION:2.0
PRODID:-//FIRST Washington - ECPv4.9.13//NONSGML v1.0//EN
CALSCALE:GREGORIAN
METHOD:PUBLISH
X-WR-CALNAME:FIRST Washington
X-ORIGINAL-URL:https://firstwa.org
X-WR-CALDESC:Events for FIRST Washington
BEGIN:VTIMEZONE
TZID:America/Los_Angeles
BEGIN:DAYLIGHT
TZOFFSETFROM:-0800
TZOFFSETTO:-0700
TZNAME:PDT
DTSTART:20200308T100000
END:DAYLIGHT
BEGIN:STANDARD
TZOFFSETFROM:-0700
TZOFFSETTO:-0800
TZNAME:PST
DTSTART:20201101T090000
END:STANDARD
END:VTIMEZONE
BEGIN:VEVENT
DTSTART;TZID=America/Los_Angeles:20200213T150000
DTEND;TZID=America/Los_Angeles:20200213T170000
DTSTAMP:20200305T211906
CREATED:20200121T182128Z
LAST-MODIFIED:20200121T182128Z
UID:5583-1581606000-1581613200@firstwa.org
SUMMARY:2nd Annual FIRST Washington Legislator Invitational
DESCRIPTION:
URL:https://firstwa.org/event/2nd-annual-first-washington-legislator-invitational/
LOCATION:Olympia State Capitol\, Olympia State Capitol\, Columbia Room\, 215 Sid Snider Ave\, Olympia\, WA\, 98501\, United States
CATEGORIES:All Programs
GEO:47.0360457;-122.9046251
X-APPLE-STRUCTURED-LOCATION;VALUE=URI;X-ADDRESS=Olympia State Capitol Olympia State Capitol Columbia Room 215 Sid Snider Ave Olympia WA 98501 United States;X-APPLE-RADIUS=500;X-TITLE=Olympia State Capitol\, Columbia Room\, 215 Sid Snider Ave:geo:-122.9046251,47.0360457
END:VEVENT
END:VCALENDAR