BEGIN:VCALENDAR
VERSION:2.0
PRODID:-//FIRST Washington - ECPv4.9.13//NONSGML v1.0//EN
CALSCALE:GREGORIAN
METHOD:PUBLISH
X-WR-CALNAME:FIRST Washington
X-ORIGINAL-URL:https://firstwa.org
X-WR-CALDESC:Events for FIRST Washington
BEGIN:VTIMEZONE
TZID:America/Los_Angeles
BEGIN:DAYLIGHT
TZOFFSETFROM:-0800
TZOFFSETTO:-0700
TZNAME:PDT
DTSTART:20200308T100000
END:DAYLIGHT
BEGIN:STANDARD
TZOFFSETFROM:-0700
TZOFFSETTO:-0800
TZNAME:PST
DTSTART:20201101T090000
END:STANDARD
END:VTIMEZONE
BEGIN:VEVENT
DTSTART;VALUE=DATE:20200305
DTEND;VALUE=DATE:20200308
DTSTAMP:20200305T212632
CREATED:20200116T195830Z
LAST-MODIFIED:20200219T214228Z
UID:5440-1583366400-1583625599@firstwa.org
SUMMARY:FRC Week 2 West Valley
DESCRIPTION:  \n\n\n\n\n\n\n\n\nWest Valley High School\, Spokane Valley WA\n\n\n\n\n\n\n\n\n\nVOLUNTEER\n\n\n\n\n\n\n\nWorkshop Requests:  Deadline has passed \nSite Specific PowerPoint: West Valley Site Specific Info \nPre-order Lunch form:  Robotics Student lunch Flyer 2020  Order due 2-26-20 \nTeam List/Event Results:  https://frc-events.firstinspires.org/2020/WASPO \nSchedule: https://www.firstinspires.org/sites/default/files/uploads/frc/2020-events/2020_WASPO_Agenda.pdf \nHotel Info \nDistrict Rankings:  https://frc-events.firstinspires.org/2020/district/PNW#rankings \n**Schedule subject to change. Final schedules provided day of competition. \n
URL:https://firstwa.org/event/frc-week-2-west-valley/
LOCATION:West Valley High School – Spokane\, 8301 East Buckeye Avenue\, Spokane\, WA\, 99212\, United States
CATEGORIES:FRC
GEO:47.6828997;-117.2922638
X-APPLE-STRUCTURED-LOCATION;VALUE=URI;X-ADDRESS=West Valley High School – Spokane 8301 East Buckeye Avenue Spokane WA 99212 United States;X-APPLE-RADIUS=500;X-TITLE=8301 East Buckeye Avenue:geo:-117.2922638,47.6828997
END:VEVENT
BEGIN:VEVENT
DTSTART;VALUE=DATE:20200306
DTEND;VALUE=DATE:20200309
DTSTAMP:20200305T212632
CREATED:20200116T200207Z
LAST-MODIFIED:20200305T202913Z
UID:5442-1583452800-1583711999@firstwa.org
SUMMARY:CANCELED - FRC Week 2 Auburn Mountainview
DESCRIPTION:View the most recent COVID-19 announcement on our homepage: firstwa.org  \n\n\n\n\n\n\n\n\nAuburn Mountainview High School\, Auburn WA\n\n\n\n\n\n\n\n\n\nVOLUNTEER\n\n\n\n\n\n\n\nWorkshop Requests:  Deadline has passed \nSite Specific PowerPoint:  AMV Site Specifc info \nPre-order Pizza:  Can be ordered on site (Info in site specific powerpoint \nTeam List/Event Results: https://frc-events.firstinspires.org/2020/WAAMV \nSchedule: https://www.firstinspires.org/sites/default/files/uploads/frc/2020-events/2020_WAAMV_Agenda.pdf \nHotel Info \nDistrict Rankings:  https://frc-events.firstinspires.org/2020/district/PNW#rankings \n**Schedule subject to change. Final schedules provided day of competition. \n
URL:https://firstwa.org/event/frc-week-2-auburn-mountainview/
LOCATION:Auburn Mountainview High School\, 28900 124th Ave SE\, Auburn\, WA\, 98092\, United States
CATEGORIES:FRC
GEO:47.3419617;-122.171867
X-APPLE-STRUCTURED-LOCATION;VALUE=URI;X-ADDRESS=Auburn Mountainview High School 28900 124th Ave SE Auburn WA 98092 United States;X-APPLE-RADIUS=500;X-TITLE=28900 124th Ave SE:geo:-122.171867,47.3419617
END:VEVENT
BEGIN:VEVENT
DTSTART;TZID=America/Los_Angeles:20200307T134500
DTEND;TZID=America/Los_Angeles:20200307T153000
DTSTAMP:20200305T212632
CREATED:20200121T181029Z
LAST-MODIFIED:20200121T181029Z
UID:5579-1583588700-1583595000@firstwa.org
SUMMARY:FLL Jr Auburn Expo
DESCRIPTION:Auburn Mountainview High School\, Snohomish\, WA \n\n\n\n\nTypical FLL Jr Event Schedule\n\n\n\n\n\n\n \n\n\n\n\nSchedule\nTime\n\n\nTeam Check-in\n1:45 PM\n\n\nReviewers visit Teams at their Display table\n2:15 PM\n\n\nAward Ceremony (approximate)\n3:30 PM\n\n\n\n\n\n\n*Events that are held at the same location as another FIRST event will have the opportunity for students to visit teams in the Pits and watch the Robot game. Please leave Expo materials in your vehicle while you are visiting the other programs.\n\n\n\n  \nRegistered Teams: \nBelow are the teams that have been confirmed in their Expos. Check back if you do not see your team. We update this list once a week.  \n﻿﻿ \n
URL:https://firstwa.org/event/fll-jr-auburn-expo/
LOCATION:Auburn Mountainview High School\, 28900 124th Ave SE\, Auburn\, WA\, 98092\, United States
CATEGORIES:FLL Jr
GEO:47.3419617;-122.171867
X-APPLE-STRUCTURED-LOCATION;VALUE=URI;X-ADDRESS=Auburn Mountainview High School 28900 124th Ave SE Auburn WA 98092 United States;X-APPLE-RADIUS=500;X-TITLE=28900 124th Ave SE:geo:-122.171867,47.3419617
END:VEVENT
END:VCALENDAR