BEGIN:VCALENDAR
VERSION:2.0
PRODID:-//FIRST Washington - ECPv4.9.13//NONSGML v1.0//EN
CALSCALE:GREGORIAN
METHOD:PUBLISH
X-WR-CALNAME:FIRST Washington
X-ORIGINAL-URL:https://firstwa.org
X-WR-CALDESC:Events for FIRST Washington
BEGIN:VTIMEZONE
TZID:America/Los_Angeles
BEGIN:DAYLIGHT
TZOFFSETFROM:-0800
TZOFFSETTO:-0700
TZNAME:PDT
DTSTART:20200308T100000
END:DAYLIGHT
BEGIN:STANDARD
TZOFFSETFROM:-0700
TZOFFSETTO:-0800
TZNAME:PST
DTSTART:20201101T090000
END:STANDARD
END:VTIMEZONE
BEGIN:VEVENT
DTSTART;VALUE=DATE:20200731
DTEND;VALUE=DATE:20200803
DTSTAMP:20200305T220622
CREATED:20200121T170233Z
LAST-MODIFIED:20200121T173124Z
UID:5564-1596153600-1596412799@firstwa.org
SUMMARY:Seafair
DESCRIPTION:
URL:https://firstwa.org/event/seafair/
LOCATION:Genesee Park\, 4316 S Genesee St\, Seattle\, WA\, 98118\, United States
CATEGORIES:All Programs
GEO:47.5639075;-122.2789662
X-APPLE-STRUCTURED-LOCATION;VALUE=URI;X-ADDRESS=Genesee Park 4316 S Genesee St Seattle WA 98118 United States;X-APPLE-RADIUS=500;X-TITLE=4316 S Genesee St:geo:-122.2789662,47.5639075
END:VEVENT
END:VCALENDAR