BEGIN:VCALENDAR
VERSION:2.0
PRODID:-//FIRST Washington - ECPv4.9.13//NONSGML v1.0//EN
CALSCALE:GREGORIAN
METHOD:PUBLISH
X-WR-CALNAME:FIRST Washington
X-ORIGINAL-URL:https://firstwa.org
X-WR-CALDESC:Events for FIRST Washington
BEGIN:VTIMEZONE
TZID:America/Los_Angeles
BEGIN:DAYLIGHT
TZOFFSETFROM:-0800
TZOFFSETTO:-0700
TZNAME:PDT
DTSTART:20210314T100000
END:DAYLIGHT
BEGIN:STANDARD
TZOFFSETFROM:-0700
TZOFFSETTO:-0800
TZNAME:PST
DTSTART:20211107T090000
END:STANDARD
END:VTIMEZONE
BEGIN:VEVENT
DTSTART;VALUE=DATE:20210102
DTEND;VALUE=DATE:20210103
DTSTAMP:20200305T222451
CREATED:20200121T181309Z
LAST-MODIFIED:20200121T181426Z
UID:5581-1609545600-1609631999@firstwa.org
SUMMARY:FRC Kickoff
DESCRIPTION:
URL:https://firstwa.org/event/frc-kickoff/
CATEGORIES:FRC
END:VEVENT
END:VCALENDAR