BEGIN:VCALENDAR
VERSION:2.0
PRODID:-//FIRST Washington - ECPv4.9.13//NONSGML v1.0//EN
CALSCALE:GREGORIAN
METHOD:PUBLISH
X-WR-CALNAME:FIRST Washington
X-ORIGINAL-URL:https://firstwa.org
X-WR-CALDESC:Events for FIRST Washington
BEGIN:VTIMEZONE
TZID:UTC
BEGIN:STANDARD
TZOFFSETFROM:+0000
TZOFFSETTO:+0000
TZNAME:UTC
DTSTART:20190101T000000
END:STANDARD
END:VTIMEZONE
BEGIN:VEVENT
DTSTART;TZID=UTC:20190309T140000
DTEND;TZID=UTC:20190309T160000
DTSTAMP:20200305T222943
CREATED:20181003T023640Z
LAST-MODIFIED:20181107T235601Z
UID:2645-1552140000-1552147200@firstwa.org
SUMMARY:FLL Jr Expo
DESCRIPTION:
URL:https://firstwa.org/event/fll-jr-expo/
LOCATION:Auburn Mountainview High School\, 28900 124th Ave SE\, Auburn\, WA\, 98092\, United States
CATEGORIES:FLL Jr
GEO:47.3419617;-122.171867
X-APPLE-STRUCTURED-LOCATION;VALUE=URI;X-ADDRESS=Auburn Mountainview High School 28900 124th Ave SE Auburn WA 98092 United States;X-APPLE-RADIUS=500;X-TITLE=28900 124th Ave SE:geo:-122.171867,47.3419617
END:VEVENT
END:VCALENDAR