BEGIN:VCALENDAR
VERSION:2.0
PRODID:-//FIRST Washington - ECPv4.9.13//NONSGML v1.0//EN
CALSCALE:GREGORIAN
METHOD:PUBLISH
X-WR-CALNAME:FIRST Washington
X-ORIGINAL-URL:https://firstwa.org
X-WR-CALDESC:Events for FIRST Washington
BEGIN:VTIMEZONE
TZID:UTC
BEGIN:STANDARD
TZOFFSETFROM:+0000
TZOFFSETTO:+0000
TZNAME:UTC
DTSTART:20180101T000000
END:STANDARD
END:VTIMEZONE
BEGIN:VEVENT
DTSTART;TZID=UTC:20180919T153000
DTEND;TZID=UTC:20180920T193000
DTSTAMP:20200305T212759
CREATED:20181003T023647Z
LAST-MODIFIED:20181108T004637Z
UID:2662-1537371000-1537471800@firstwa.org
SUMMARY:STEM Robotics 101
DESCRIPTION:
URL:https://firstwa.org/event/stem-robotics-101/
LOCATION:NCESD 171\, 430 Olds Station Road\, Wenatchee\, WA\, 98801\, United States
CATEGORIES:FLL
GEO:47.4631007;-120.3275162
X-APPLE-STRUCTURED-LOCATION;VALUE=URI;X-ADDRESS=NCESD 171 430 Olds Station Road Wenatchee WA 98801 United States;X-APPLE-RADIUS=500;X-TITLE=430 Olds Station Road:geo:-120.3275162,47.4631007
END:VEVENT
END:VCALENDAR