BEGIN:VCALENDAR
VERSION:2.0
PRODID:-//FIRST Washington - ECPv4.9.13//NONSGML v1.0//EN
CALSCALE:GREGORIAN
METHOD:PUBLISH
X-WR-CALNAME:FIRST Washington
X-ORIGINAL-URL:https://firstwa.org
X-WR-CALDESC:Events for FIRST Washington
BEGIN:VTIMEZONE
TZID:UTC
BEGIN:STANDARD
TZOFFSETFROM:+0000
TZOFFSETTO:+0000
TZNAME:UTC
DTSTART:20180101T000000
END:STANDARD
END:VTIMEZONE
BEGIN:VEVENT
DTSTART;TZID=UTC:20180926T180000
DTEND;TZID=UTC:20180926T193000
DTSTAMP:20200305T212604
CREATED:20181003T023647Z
LAST-MODIFIED:20181108T004456Z
UID:2664-1537984800-1537990200@firstwa.org
SUMMARY:FLL-E. WA Kickoff/Coaches & Mentors Workshop
DESCRIPTION:
URL:https://firstwa.org/event/fll-e-wa-kickoff-coaches-mentors-workshop/
LOCATION:TBD\, United States
CATEGORIES:FLL
END:VEVENT
END:VCALENDAR