BEGIN:VCALENDAR
VERSION:2.0
PRODID:-//FIRST Washington - ECPv4.9.13//NONSGML v1.0//EN
CALSCALE:GREGORIAN
METHOD:PUBLISH
X-WR-CALNAME:FIRST Washington
X-ORIGINAL-URL:https://firstwa.org
X-WR-CALDESC:Events for FIRST Washington
BEGIN:VTIMEZONE
TZID:UTC
BEGIN:STANDARD
TZOFFSETFROM:+0000
TZOFFSETTO:+0000
TZNAME:UTC
DTSTART:20180101T000000
END:STANDARD
END:VTIMEZONE
BEGIN:VEVENT
DTSTART;TZID=UTC:20181001T090000
DTEND;TZID=UTC:20181002T153000
DTSTAMP:20200305T212430
CREATED:20181003T023652Z
LAST-MODIFIED:20181108T004348Z
UID:2667-1538384400-1538494200@firstwa.org
SUMMARY:STEM Robotics 101
DESCRIPTION:
URL:https://firstwa.org/event/stem-robotics-101-3/
LOCATION:OESD 114 – Room 204\, 105 National Avenue N.\, Bremerton\, WA\, 98312\, United States
CATEGORIES:FLL
GEO:47.5658216;-122.6688664
X-APPLE-STRUCTURED-LOCATION;VALUE=URI;X-ADDRESS=OESD 114 – Room 204 105 National Avenue N. Bremerton WA 98312 United States;X-APPLE-RADIUS=500;X-TITLE=105 National Avenue N.:geo:-122.6688664,47.5658216
END:VEVENT
END:VCALENDAR