BEGIN:VCALENDAR
VERSION:2.0
PRODID:-//FIRST Washington - ECPv4.9.13//NONSGML v1.0//EN
CALSCALE:GREGORIAN
METHOD:PUBLISH
X-WR-CALNAME:FIRST Washington
X-ORIGINAL-URL:https://firstwa.org
X-WR-CALDESC:Events for FIRST Washington
BEGIN:VTIMEZONE
TZID:UTC
BEGIN:STANDARD
TZOFFSETFROM:+0000
TZOFFSETTO:+0000
TZNAME:UTC
DTSTART:20180101T000000
END:STANDARD
END:VTIMEZONE
BEGIN:VEVENT
DTSTART;TZID=UTC:20181209T080000
DTEND;TZID=UTC:20181209T170000
DTSTAMP:20200305T210138
CREATED:20181003T023709Z
LAST-MODIFIED:20181130T022823Z
UID:2729-1544342400-1544374800@firstwa.org
SUMMARY:FLL South Sound Qualifier - Lacey (Sun)
DESCRIPTION:\n\n\n\n\n\n\n\n \n\n\nSchedule\nTime\n\n\nVolunteer Check-in\n  7:00 AM\n\n\nTeam Check-in Opens\n  8:00 AM\n\n\nCoach Meeting\n  8:30 AM\n\n\nJudge Sessions Begin\n  9:00 AM\n\n\nLunch\n12:00 PM\n\n\nOpening Ceremony\n12:30 PM\n\n\nRobot Competitions Begin\n12:45 PM\n\n\nRecognition of FLL Jr. Teams\n  2:00 PM\n\n\nAwards Ceremony\n  4:00 PM\n\n\nLoad Out\n  5:00 PM\n\n\n\n\n\n\n\n\n\n\nNOTE: Schedule subject to change. Final schedules provided day of competition.\n\n\nFood: Concessions will be available.\n\n\nAll events need support from the attending teams in order to have enough tables and Challenge sets for the Judging rooms and Practice tables.\n\n\nTo Provide Challenge sets and Tables for Event use\, please register your equipment here: Register to Provide Event Equipment\n\n\n\n\n\n\n\n  \n
URL:https://firstwa.org/event/fll-south-sound-sun/
LOCATION:Salish Middle School\, 8605 Campus Glen Drive NE\, Lacey\, WA\, 98516\, United States
CATEGORIES:FLL
GEO:47.081183;-122.7573599
X-APPLE-STRUCTURED-LOCATION;VALUE=URI;X-ADDRESS=Salish Middle School 8605 Campus Glen Drive NE Lacey WA 98516 United States;X-APPLE-RADIUS=500;X-TITLE=8605 Campus Glen Drive NE:geo:-122.7573599,47.081183
END:VEVENT
BEGIN:VEVENT
DTSTART;TZID=UTC:20181209T080000
DTEND;TZID=UTC:20181209T170000
DTSTAMP:20200305T210138
CREATED:20181003T023710Z
LAST-MODIFIED:20181130T022507Z
UID:2730-1544342400-1544374800@firstwa.org
SUMMARY:FLL Eastern Qualifier - Spokane (Sun)
DESCRIPTION:\n\n\n\n\n\n\n\n \n\n\nSchedule\nTime\n\n\nArrive (Coach check-ins)\n  8:00 AM\n\n\nCoaches Meeting\n  8:45 AM\n\n\nJudging Sessions\n  9:15 AM\n\n\nRobot Games Opening Ceremony (Parade of Teams\, Welcome to Spectators )\n12:00 PM\n\n\nRound 1 (times are approximate)\n12:45 PM\n\n\nRound two\n  1:45 PM\n\n\nRound three\n  2:45 PM\n\n\nAwards\n  4:00 PM\n\n\n\n\n\n\n\n\n\n\nNOTE: Schedule subject to change. Final schedules provided day of competition.\n\n\nFood: TBD\n\n\nAll events need support from the attending teams in order to have enough tables and Challenge sets for the Judging rooms and Practice tables.\n\n\nTo Provide Challenge sets and Tables for Event use\, please register your equipment here: Register to Provide Event Equipment\n\n\n﻿ width=”100%” height=”450″ frameborder=”0″>\n\n\n\n\n\n  \n
URL:https://firstwa.org/event/fll-eastern-sun/
LOCATION:Salk Middle School\, 6411 N Alberta St\,\, Spokane\, WA\, 99208\, United States
CATEGORIES:FLL
GEO:47.717338;-117.449867
X-APPLE-STRUCTURED-LOCATION;VALUE=URI;X-ADDRESS=Salk Middle School 6411 N Alberta St Spokane WA 99208 United States;X-APPLE-RADIUS=500;X-TITLE=6411 N Alberta St\,:geo:-117.449867,47.717338
END:VEVENT
BEGIN:VEVENT
DTSTART;TZID=UTC:20181209T080000
DTEND;TZID=UTC:20181209T170000
DTSTAMP:20200305T210138
CREATED:20181003T023710Z
LAST-MODIFIED:20181130T022808Z
UID:2731-1544342400-1544374800@firstwa.org
SUMMARY:FLL North Sound Qualifier - Everett (Sun)
DESCRIPTION:\n\n\n\n\n\n\n\n \n\n\nSchedule\nTime\n\n\nVolunteer Check-in\n  7:30 AM\n\n\nTeam Check-in Opens\n  8:00 AM\n\n\nCoach Meeting\n  8:30 AM\n\n\nJudge Sessions Begin\n  9:00 AM\n\n\nLunch\n12:00 PM\n\n\nOpening Ceremony\n12:30 PM\n\n\nRobot Competitions Begin\n12:45 PM\n\n\nAwards Ceremony\n  4:00 PM\n\n\nLoad Out\n  4:30 PM\n\n\n\n\n\n\n\n\n\n\nNOTE: Schedule subject to change. Final schedules provided day of competition.\n\n\nFood: Concessions will be available.\n\n\nAll events need support from the attending teams in order to have enough tables and Challenge sets for the Judging rooms and Practice tables.\n\n\nTo Provide Challenge sets and Tables for Event use\, please register your equipment here: Register to Provide Event Equipment\n\n\n width=”100%” height=”450″ frameborder=”0″>\n\n\n\n\n\n  \n
URL:https://firstwa.org/event/fll-north-sound-sat-everett-2/
LOCATION:Cascade High School\, 801 E Casino Rd\, Everett\, WA\, 98203\, United States
CATEGORIES:FLL
GEO:47.9244022;-122.2227447
X-APPLE-STRUCTURED-LOCATION;VALUE=URI;X-ADDRESS=Cascade High School 801 E Casino Rd Everett WA 98203 United States;X-APPLE-RADIUS=500;X-TITLE=801 E Casino Rd:geo:-122.2227447,47.9244022
END:VEVENT
END:VCALENDAR