BEGIN:VCALENDAR
VERSION:2.0
PRODID:-//FIRST Washington - ECPv4.9.13//NONSGML v1.0//EN
CALSCALE:GREGORIAN
METHOD:PUBLISH
X-WR-CALNAME:FIRST Washington
X-ORIGINAL-URL:https://firstwa.org
X-WR-CALDESC:Events for FIRST Washington
BEGIN:VTIMEZONE
TZID:UTC
BEGIN:STANDARD
TZOFFSETFROM:+0000
TZOFFSETTO:+0000
TZNAME:UTC
DTSTART:20190101T000000
END:STANDARD
END:VTIMEZONE
BEGIN:VEVENT
DTSTART;TZID=UTC:20190112T080000
DTEND;TZID=UTC:20190112T170000
DTSTAMP:20200305T211535
CREATED:20181213T113336Z
LAST-MODIFIED:20181213T114638Z
UID:3706-1547280000-1547312400@firstwa.org
SUMMARY:FLL Eastern WA State Championship
DESCRIPTION:\n\n\n\n\n\n\n\n \n\n\nSchedule\nTime\n\n\nVolunteer Check-in Opens\n  7:00 AM\n\n\nTeam Check-in Opens\n  8:00 AM\n\n\nCoach Meeting\n  8:30 AM\n\n\nJudge Sessions Begin\n  9:00 AM\n\n\nLunch\n12:00 PM\n\n\nOpening Ceremony\n 12:45 PM\n\n\nRobot Competition Begins\n  1:00 PM\n\n\nAwards Ceremony\n  4:00 PM\n\n\nLoad Out\n  5:00 PM\n\n\n\n\n\n\n\n\n\n\nNOTE: Schedule subject to change. Final schedules provided day of competition.\n\n\nFood: Concessions are available.\n\n\nAll events need support from the attending teams in order to have enough tables and Challenge sets for the Judging rooms and Practice tables.\n\n\nTo Provide Challenge sets and Tables for Event use\, please register your equipment here: Register to Provide Event Equipment\n\n\n\n\n\n\n\n  \n
URL:https://firstwa.org/event/fll-eastern-wa-state-championship/
LOCATION:Salk Middle School\, 6411 N Alberta St\,\, Spokane\, WA\, 99208\, United States
CATEGORIES:FLL
GEO:47.717338;-117.449867
X-APPLE-STRUCTURED-LOCATION;VALUE=URI;X-ADDRESS=Salk Middle School 6411 N Alberta St Spokane WA 99208 United States;X-APPLE-RADIUS=500;X-TITLE=6411 N Alberta St\,:geo:-117.449867,47.717338
END:VEVENT
END:VCALENDAR