BEGIN:VCALENDAR
VERSION:2.0
PRODID:-//FIRST Washington - ECPv4.9.13//NONSGML v1.0//EN
CALSCALE:GREGORIAN
METHOD:PUBLISH
X-WR-CALNAME:FIRST Washington
X-ORIGINAL-URL:https://firstwa.org
X-WR-CALDESC:Events for FIRST Washington
BEGIN:VTIMEZONE
TZID:America/Los_Angeles
BEGIN:DAYLIGHT
TZOFFSETFROM:-0800
TZOFFSETTO:-0700
TZNAME:PDT
DTSTART:20190310T100000
END:DAYLIGHT
BEGIN:STANDARD
TZOFFSETFROM:-0700
TZOFFSETTO:-0800
TZNAME:PST
DTSTART:20191103T090000
END:STANDARD
END:VTIMEZONE
BEGIN:VEVENT
DTSTART;TZID=America/Los_Angeles:20191214T070000
DTEND;TZID=America/Los_Angeles:20191214T170000
DTSTAMP:20200305T205307
CREATED:20191104T194707Z
LAST-MODIFIED:20191104T200342Z
UID:5005-1576306800-1576342800@firstwa.org
SUMMARY:FLL South Sound Tumwater Qualifier (Saturday)
DESCRIPTION:\n\n\n\n\n\n\n\n \n\n\nSchedule\nTime\n\n\nVolunteer Check-in\n  7:00 AM\n\n\nTeam Check-in Opens\n  8:00 AM\n\n\nCoach Meeting\n  8:30 AM\n\n\nJudge Sessions Begin\n  9:00 AM\n\n\nLunch\n 12:00 PM\n\n\nOpening Ceremony\n  12:45 PM\n\n\nRobot Competitions Begin\n  1:00 PM\n\n\nAwards Ceremony\n  4:00 PM\n\n\nLoad Out\n  5:00 PM\n\n\n\n\n\n\nNOTE: Schedule subject to change. Final schedules provided day of competition.\n\n\nAll events need support from the attending teams in order to have enough tables and Challenge sets for the Judging rooms and Practice tables.\n\n\nTo Provide Challenge sets and Tables for Event use\, please register your equipment here: Register to Provide Event Equipment\n\n\n\n\n
URL:https://firstwa.org/event/fll-south-sound-tumwater-qualifier/
LOCATION:George Washington Bush Middle School\, 2120 83rd Ave SW\, Tumwater\, WA\, 98512\, United States
CATEGORIES:FLL
GEO:46.9681313;-122.9273342
X-APPLE-STRUCTURED-LOCATION;VALUE=URI;X-ADDRESS=George Washington Bush Middle School 2120 83rd Ave SW Tumwater WA 98512 United States;X-APPLE-RADIUS=500;X-TITLE=2120 83rd Ave SW:geo:-122.9273342,46.9681313
END:VEVENT
BEGIN:VEVENT
DTSTART;TZID=America/Los_Angeles:20191214T070000
DTEND;TZID=America/Los_Angeles:20191214T163000
DTSTAMP:20200305T205307
CREATED:20191104T195441Z
LAST-MODIFIED:20191104T195441Z
UID:5022-1576306800-1576341000@firstwa.org
SUMMARY:FLL Central Wenatchee Qualifier
DESCRIPTION:\n\n\n\n\n\n\n\n \n\n\nSchedule\nTime\n\n\nVolunteer Check-in\n  7:00 AM\n\n\nTeam Check-in Opens\n  8:00 AM\n\n\nCoach Meeting\n  8:30 AM\n\n\nJudge Sessions Begin\n  9:00 AM\n\n\nLunch\n 11:30 PM\n\n\nOpening Ceremony\n  12:00 PM\n\n\nRobot Competitions Begin\n  12:15 PM\n\n\nAwards Ceremony\n  4:00 PM\n\n\nLoad Out\n  4:30 PM\n\n\n\n\n\n\nNOTE: Schedule subject to change. Final schedules provided day of competition.\n\n\nAll events need support from the attending teams in order to have enough tables and Challenge sets for the Judging rooms and Practice tables.\n\n\nTo Provide Challenge sets and Tables for Event use\, please register your equipment here: Register to Provide Event Equipment\n\n\n\n\n
URL:https://firstwa.org/event/fll-central-wenatchee-qualifier/
LOCATION:Clovis Point Intermediate School\, 1855 - 4th St. SE\, East Wenatchee\, WA\, 98802\, United States
CATEGORIES:FLL
GEO:47.399635;-120.2559403
X-APPLE-STRUCTURED-LOCATION;VALUE=URI;X-ADDRESS=Clovis Point Intermediate School 1855 - 4th St. SE East Wenatchee WA 98802 United States;X-APPLE-RADIUS=500;X-TITLE=1855 - 4th St. SE:geo:-120.2559403,47.399635
END:VEVENT
BEGIN:VEVENT
DTSTART;TZID=America/Los_Angeles:20191214T070000
DTEND;TZID=America/Los_Angeles:20191214T170000
DTSTAMP:20200305T205307
CREATED:20191104T195630Z
LAST-MODIFIED:20191104T195630Z
UID:5024-1576306800-1576342800@firstwa.org
SUMMARY:FLL North Sound Everett Qualifier (Saturday)
DESCRIPTION:\n\n\n\n\n\n\n\n \n\n\nSchedule\nTime\n\n\nVolunteer Check-in\n  7:00 AM\n\n\nTeam Check-in Opens\n  8:00 AM\n\n\nCoach Meeting\n  8:30 AM\n\n\nJudge Sessions Begin\n  9:00 AM\n\n\nLunch\n 12:00 PM\n\n\nOpening Ceremony\n  12:45 PM\n\n\nRobot Competitions Begin\n  1:00 PM\n\n\nAwards Ceremony\n  4:30 PM\n\n\nLoad Out\n  5:00 PM\n\n\n\n\n\n\nNOTE: Schedule subject to change. Final schedules provided day of competition.\n\n\nAll events need support from the attending teams in order to have enough tables and Challenge sets for the Judging rooms and Practice tables.\n\n\nTo Provide Challenge sets and Tables for Event use\, please register your equipment here: Register to Provide Event Equipment\n\n\n\n\n
URL:https://firstwa.org/event/fll-north-sound-everett-qualifier-saturday/
LOCATION:Cascade High School\, 801 E Casino Rd\, Everett\, WA\, 98203\, United States
CATEGORIES:FLL
GEO:47.9244022;-122.2227447
X-APPLE-STRUCTURED-LOCATION;VALUE=URI;X-ADDRESS=Cascade High School 801 E Casino Rd Everett WA 98203 United States;X-APPLE-RADIUS=500;X-TITLE=801 E Casino Rd:geo:-122.2227447,47.9244022
END:VEVENT
BEGIN:VEVENT
DTSTART;TZID=America/Los_Angeles:20191214T073000
DTEND;TZID=America/Los_Angeles:20191214T170000
DTSTAMP:20200305T205307
CREATED:20191030T225858Z
LAST-MODIFIED:20191104T194013Z
UID:4971-1576308600-1576342800@firstwa.org
SUMMARY:FLL Eastside\, Bellevue Qualifier (Saturday)
DESCRIPTION:\n\n\n\n\n\n\n\n \n\n\nSchedule\nTime\n\n\nVolunteer Check-in\n  7:30 AM\n\n\nTeam Check-in Opens\n  8:00 AM\n\n\nCoach Meeting\n  8:30 AM\n\n\nJudge Sessions Begin\n  9:00 AM\n\n\nLunch\n 12:00 PM\n\n\nOpening Ceremony\n  12:45 PM\n\n\nRobot Competitions Begin\n  1:00 PM\n\n\nAwards Ceremony\n  4:00 PM\n\n\nLoad Out\n  5:00 PM\n\n\n\n\n\n\nNOTE: Schedule subject to change. Final schedules provided day of competition.\n\n\nAll events need support from the attending teams in order to have enough tables and Challenge sets for the Judging rooms and Practice tables.\n\n\nTo Provide Challenge sets and Tables for Event use\, please register your equipment here: Register to Provide Event Equipment\n\n\n\n\n\n\n\n
URL:https://firstwa.org/event/fll-eastside-bellevue-qualifier-saturday/
LOCATION:Chinook Middle School – Bellevue\, 2001 98th Ave NE\, Bellevue\, WA\, 98004\, United States
CATEGORIES:FLL
GEO:47.6282953;-122.2109378
X-APPLE-STRUCTURED-LOCATION;VALUE=URI;X-ADDRESS=Chinook Middle School – Bellevue 2001 98th Ave NE Bellevue WA 98004 United States;X-APPLE-RADIUS=500;X-TITLE=2001 98th Ave NE:geo:-122.2109378,47.6282953
END:VEVENT
BEGIN:VEVENT
DTSTART;TZID=America/Los_Angeles:20191214T073000
DTEND;TZID=America/Los_Angeles:20191214T163000
DTSTAMP:20200305T205307
CREATED:20191104T195207Z
LAST-MODIFIED:20191104T195207Z
UID:5020-1576308600-1576341000@firstwa.org
SUMMARY:Fll Central South Pasco Qualifier
DESCRIPTION:\n\n\n\n\n\n\n\n \n\n\nSchedule\nTime\n\n\nVolunteer Check-in\n  7:30 AM\n\n\nTeam Check-in Opens\n  8:00 AM\n\n\nCoach Meeting\n  8:30 AM\n\n\nJudge Sessions Begin\n  9:00 AM\n\n\nLunch\n 12:00 PM\n\n\nOpening Ceremony\n  12:45 PM\n\n\nRobot Competitions Begin\n  1:00 PM\n\n\nAwards Ceremony\n  4:00 PM\n\n\nLoad Out\n  4:30 PM\n\n\n\n\n\n\nNOTE: Schedule subject to change. Final schedules provided day of competition.\n\n\nAll events need support from the attending teams in order to have enough tables and Challenge sets for the Judging rooms and Practice tables.\n\n\nTo Provide Challenge sets and Tables for Event use\, please register your equipment here: Register to Provide Event Equipment\n\n\n\n\n
URL:https://firstwa.org/event/fll-central-south-pasco-qualifier/
LOCATION:Ochoa Middle School\, 1801 E. Sheppard St.\, Pasco\, WA\, 99301\, United States
CATEGORIES:FLL
GEO:46.2460081;-119.0706426
X-APPLE-STRUCTURED-LOCATION;VALUE=URI;X-ADDRESS=Ochoa Middle School 1801 E. Sheppard St. Pasco WA 99301 United States;X-APPLE-RADIUS=500;X-TITLE=1801 E. Sheppard St.:geo:-119.0706426,46.2460081
END:VEVENT
BEGIN:VEVENT
DTSTART;TZID=America/Los_Angeles:20191214T073000
DTEND;TZID=America/Los_Angeles:20191214T170000
DTSTAMP:20200305T205307
CREATED:20191104T195815Z
LAST-MODIFIED:20191104T195815Z
UID:5026-1576308600-1576342800@firstwa.org
SUMMARY:FLL South King Auburn Qualifier (Saturday)
DESCRIPTION:\n\n\n\n\n\n\n\n \n\n\nSchedule\nTime\n\n\nVolunteer Check-in\n  7:30 AM\n\n\nTeam Check-in Opens\n  8:00 AM\n\n\nCoach Meeting\n  8:30 AM\n\n\nJudge Sessions Begin\n  9:00 AM\n\n\nLunch\n 12:00 PM\n\n\nOpening Ceremony\n  12:45 PM\n\n\nRobot Competitions Begin\n  1:00 PM\n\n\nAwards Ceremony\n  4:00 PM\n\n\nLoad Out\n  5:00 PM\n\n\n\n\n\n\nNOTE: Schedule subject to change. Final schedules provided day of competition.\n\n\nAll events need support from the attending teams in order to have enough tables and Challenge sets for the Judging rooms and Practice tables.\n\n\nTo Provide Challenge sets and Tables for Event use\, please register your equipment here: Register to Provide Event Equipment\n\n\n\n\n
URL:https://firstwa.org/event/fll-south-king-auburn-qualifier-saturday/
LOCATION:Auburn Mountainview High School\, 28900 124th Ave SE\, Auburn\, WA\, 98092\, United States
CATEGORIES:FLL
GEO:47.3419617;-122.171867
X-APPLE-STRUCTURED-LOCATION;VALUE=URI;X-ADDRESS=Auburn Mountainview High School 28900 124th Ave SE Auburn WA 98092 United States;X-APPLE-RADIUS=500;X-TITLE=28900 124th Ave SE:geo:-122.171867,47.3419617
END:VEVENT
END:VCALENDAR