BEGIN:VCALENDAR
VERSION:2.0
PRODID:-//FIRST Washington - ECPv6.15.17.1//NONSGML v1.0//EN
CALSCALE:GREGORIAN
METHOD:PUBLISH
X-ORIGINAL-URL:https://firstwa.org
X-WR-CALDESC:Events for FIRST Washington
REFRESH-INTERVAL;VALUE=DURATION:PT1H
X-Robots-Tag:noindex
X-PUBLISHED-TTL:PT1H
BEGIN:VTIMEZONE
TZID:America/Los_Angeles
BEGIN:DAYLIGHT
TZOFFSETFROM:-0800
TZOFFSETTO:-0700
TZNAME:PDT
DTSTART:20240310T100000
END:DAYLIGHT
BEGIN:STANDARD
TZOFFSETFROM:-0700
TZOFFSETTO:-0800
TZNAME:PST
DTSTART:20241103T090000
END:STANDARD
BEGIN:DAYLIGHT
TZOFFSETFROM:-0800
TZOFFSETTO:-0700
TZNAME:PDT
DTSTART:20250309T100000
END:DAYLIGHT
BEGIN:STANDARD
TZOFFSETFROM:-0700
TZOFFSETTO:-0800
TZNAME:PST
DTSTART:20251102T090000
END:STANDARD
BEGIN:DAYLIGHT
TZOFFSETFROM:-0800
TZOFFSETTO:-0700
TZNAME:PDT
DTSTART:20260308T100000
END:DAYLIGHT
BEGIN:STANDARD
TZOFFSETFROM:-0700
TZOFFSETTO:-0800
TZNAME:PST
DTSTART:20261101T090000
END:STANDARD
END:VTIMEZONE
BEGIN:VEVENT
DTSTART;VALUE=DATE:20250416
DTEND;VALUE=DATE:20250420
DTSTAMP:20260425T094924
CREATED:20250416T162506Z
LAST-MODIFIED:20250417T153655Z
UID:10000970-1744761600-1745107199@firstwa.org
SUMMARY:FIRST® Championship presented by BAE Systems
DESCRIPTION:The 2025 FIRST Championship will take place in Houston\, Texas on April 16-19. This is the final competition level for most FRC\, FTC\, and FLL teams\, hosted by FIRST Inspires. \nThis event page exists to help our community follow along with the PNW teams competing at this event. \nIf you are a team competing at the FIRST Championship competition looking for event specific information\, please refer to the official event page for further details. FIRST Washington does not manage or organize this event in any way. \nLearn More!
URL:https://firstwa.org/event/pnwworld25/
LOCATION:George R. Brown Convention Center\, Houston\, TX\, United States
CATEGORIES:FLL Challenge Event,FLL Explore Event,FRC Event,FTC Event
ATTACH;FMTTYPE=image/png:https://firstwa.org/wp-content/uploads/2025/04/EVENT-LOGOS-CALENDAR-23.png
END:VEVENT
END:VCALENDAR